BEGIN:VCALENDAR
VERSION:2.0
PRODID:-//Le Musee de Saint Boniface Museum - ECPv6.15.20//NONSGML v1.0//EN
CALSCALE:GREGORIAN
METHOD:PUBLISH
X-WR-CALNAME:Le Musee de Saint Boniface Museum
X-ORIGINAL-URL:https://msbm.mb.ca
X-WR-CALDESC:Events for Le Musee de Saint Boniface Museum
REFRESH-INTERVAL;VALUE=DURATION:PT1H
X-Robots-Tag:noindex
X-PUBLISHED-TTL:PT1H
BEGIN:VTIMEZONE
TZID:America/Winnipeg
BEGIN:DAYLIGHT
TZOFFSETFROM:-0600
TZOFFSETTO:-0500
TZNAME:CDT
DTSTART:20240310T080000
END:DAYLIGHT
BEGIN:STANDARD
TZOFFSETFROM:-0500
TZOFFSETTO:-0600
TZNAME:CST
DTSTART:20241103T070000
END:STANDARD
BEGIN:DAYLIGHT
TZOFFSETFROM:-0600
TZOFFSETTO:-0500
TZNAME:CDT
DTSTART:20250309T080000
END:DAYLIGHT
BEGIN:STANDARD
TZOFFSETFROM:-0500
TZOFFSETTO:-0600
TZNAME:CST
DTSTART:20251102T070000
END:STANDARD
BEGIN:DAYLIGHT
TZOFFSETFROM:-0600
TZOFFSETTO:-0500
TZNAME:CDT
DTSTART:20260308T080000
END:DAYLIGHT
BEGIN:STANDARD
TZOFFSETFROM:-0500
TZOFFSETTO:-0600
TZNAME:CST
DTSTART:20261101T070000
END:STANDARD
END:VTIMEZONE
BEGIN:VEVENT
DTSTART;TZID=America/Winnipeg:20250215T130000
DTEND;TZID=America/Winnipeg:20250215T160000
DTSTAMP:20260423T070048
CREATED:20250130T202631Z
LAST-MODIFIED:20250130T202631Z
UID:8827-1739624400-1739635200@msbm.mb.ca
SUMMARY:Honour Our Métis Mothers Project Unveiling with the Winnipeg Art Gallery
DESCRIPTION:(English message follows) \nRejoignez-nous pour le dévoilement d’une œuvre d’art spéciale : \nSamedi 15 février 2025 à 13h\nSalle principale | Entrée libre\nMusée des beaux-arts de Winnipeg-Qaumajuq | 300 Mémorial Boulvard \nÀ l’occasion de la fin de semaine de la Journée Louis Riel\, veuillez nous joindre pour le dévoilement d’une œuvre d’art collaborative qui souligne les vies et les expériences vécues par de nombreuses femmes métisses à travers la patrie. \nLes cérémonies de prière se dérouleront en michif\, en anglais et en français\, avec un service de traduction en français pendant toute la durée de l’évènement. \nDu thé et de la bannique seront servis \n️ \nJoin us for a special artwork unveiling: \nSaturday\, February 15\, 2025 at 1 p.m.\nMain Hall | Free entry\nWinnipeg Art Gallery-Qaumajuq | 300 Memorial Blvd \nOn Louis Riel Day weekend\, please join us for the unveiling of a collaborative art piece that commemorates the lives and lived experiences of Métis women from across the Homeland. \nPrayers will be made in Michif\, English & French\, along with French\ntranslation for the event. \nTea and Bannock will be served.
URL:https://msbm.mb.ca/event/honour-our-metis-mothers-project-unveiling-with-the-winnipeg-art-gallery/
LOCATION:Winnipeg Art Gallery\, 300 Memorial Boulevard\, Winnipeg\, MB\, Canada
END:VEVENT
END:VCALENDAR