BEGIN:VCALENDAR
VERSION:2.0
PRODID:-//Le Musee de Saint Boniface Museum - ECPv6.15.20//NONSGML v1.0//EN
CALSCALE:GREGORIAN
METHOD:PUBLISH
X-WR-CALNAME:Le Musee de Saint Boniface Museum
X-ORIGINAL-URL:https://msbm.mb.ca
X-WR-CALDESC:Events for Le Musee de Saint Boniface Museum
REFRESH-INTERVAL;VALUE=DURATION:PT1H
X-Robots-Tag:noindex
X-PUBLISHED-TTL:PT1H
BEGIN:VTIMEZONE
TZID:America/Winnipeg
BEGIN:DAYLIGHT
TZOFFSETFROM:-0600
TZOFFSETTO:-0500
TZNAME:CDT
DTSTART:20240310T080000
END:DAYLIGHT
BEGIN:STANDARD
TZOFFSETFROM:-0500
TZOFFSETTO:-0600
TZNAME:CST
DTSTART:20241103T070000
END:STANDARD
BEGIN:DAYLIGHT
TZOFFSETFROM:-0600
TZOFFSETTO:-0500
TZNAME:CDT
DTSTART:20250309T080000
END:DAYLIGHT
BEGIN:STANDARD
TZOFFSETFROM:-0500
TZOFFSETTO:-0600
TZNAME:CST
DTSTART:20251102T070000
END:STANDARD
BEGIN:DAYLIGHT
TZOFFSETFROM:-0600
TZOFFSETTO:-0500
TZNAME:CDT
DTSTART:20260308T080000
END:DAYLIGHT
BEGIN:STANDARD
TZOFFSETFROM:-0500
TZOFFSETTO:-0600
TZNAME:CST
DTSTART:20261101T070000
END:STANDARD
END:VTIMEZONE
BEGIN:VEVENT
DTSTART;TZID=America/Winnipeg:20250329T110000
DTEND;TZID=America/Winnipeg:20250329T123000
DTSTAMP:20260421T152816
CREATED:20250130T213150Z
LAST-MODIFIED:20250326T185057Z
UID:8843-1743246000-1743251400@msbm.mb.ca
SUMMARY:Manitoba Agricultural Museum Fingerweaving Workshop
DESCRIPTION:(English message follows)\n\n\nLe Musée de Saint-Boniface\, en partenariat avec Les Rendez-vous de la Francophonie\, le gouvernement du Canada et Sigature Museums\, offre une série d’ateliers de tissage au doigt !\n\n\nProchaine arrêt : Manitoba Agricultural Museum\nOÙ : Austin and District Community Hall - 40 Second Ave\, Austin MB\n\n\nQUAND ? Le 29 mars\nHEURE ? 11 h à 12 h 30\n\n\nACCÈS GRATUIT (inscription non requise)\n\n------------------\n\n\n\nThe Saint-Boniface Museum in partnership with Les Rendez-vous de la Francophonie\, Government of Canada and Sigature Museums is offering a series of fingerweaving workshops!\n\n\nNext stop: Manitoba Agricultural Museum\nWHERE? Austin and District Community Hall - 40 Second Ave\, Austin MB\n\n\nWHEN? March 29\nTIME? 11 am to 12:30 pm\n\n\nDROP-IN & FREE (registration not required)
URL:https://msbm.mb.ca/event/manitoba-agricultural-museum-fingerweaving-workshop/
LOCATION:Manitoba Agricultural Museum\, Provincial Trunk Hwy 34\, Austin\, MB\, R6M 2E9\, Canada
CATEGORIES:workshops
END:VEVENT
END:VCALENDAR