BEGIN:VCALENDAR
VERSION:2.0
PRODID:-//Le Musee de Saint Boniface Museum - ECPv6.15.20//NONSGML v1.0//EN
CALSCALE:GREGORIAN
METHOD:PUBLISH
X-WR-CALNAME:Le Musee de Saint Boniface Museum
X-ORIGINAL-URL:https://msbm.mb.ca
X-WR-CALDESC:Events for Le Musee de Saint Boniface Museum
REFRESH-INTERVAL;VALUE=DURATION:PT1H
X-Robots-Tag:noindex
X-PUBLISHED-TTL:PT1H
BEGIN:VTIMEZONE
TZID:America/Winnipeg
BEGIN:DAYLIGHT
TZOFFSETFROM:-0600
TZOFFSETTO:-0500
TZNAME:CDT
DTSTART:20230312T080000
END:DAYLIGHT
BEGIN:STANDARD
TZOFFSETFROM:-0500
TZOFFSETTO:-0600
TZNAME:CST
DTSTART:20231105T070000
END:STANDARD
BEGIN:DAYLIGHT
TZOFFSETFROM:-0600
TZOFFSETTO:-0500
TZNAME:CDT
DTSTART:20240310T080000
END:DAYLIGHT
BEGIN:STANDARD
TZOFFSETFROM:-0500
TZOFFSETTO:-0600
TZNAME:CST
DTSTART:20241103T070000
END:STANDARD
BEGIN:DAYLIGHT
TZOFFSETFROM:-0600
TZOFFSETTO:-0500
TZNAME:CDT
DTSTART:20250309T080000
END:DAYLIGHT
BEGIN:STANDARD
TZOFFSETFROM:-0500
TZOFFSETTO:-0600
TZNAME:CST
DTSTART:20251102T070000
END:STANDARD
END:VTIMEZONE
BEGIN:VEVENT
DTSTART;TZID=America/Winnipeg:20241207T100000
DTEND;TZID=America/Winnipeg:20241207T160000
DTSTAMP:20260422T185720
CREATED:20241203T191613Z
LAST-MODIFIED:20241203T191702Z
UID:8692-1733565600-1733587200@msbm.mb.ca
SUMMARY:DÉBUTANT - Perlage avec Prairie Owl Beads / BEGINNER - Beadwork with Prairie Owl Beads
DESCRIPTION:Le samedi\, 7 décembre 2024\n10 h à 16 h\n\n\n\n75 $ + TPS par participant\, payable en ligne\n67.50 $ + TPS pour les membres du MSBM\, payable en ligne\n\n\n\nCeci vous donne la chance d'apprendre un nouvel art ! Cet atelier est parfait pour toutes personnes qui n'ont jamais fait de perlage auparavant ! \nINSCRIVEZ-VOUS ICI ! \n\n\n\n\nSaturday\, December 7\, 2024\nfrom 10 a.m. to 4 p.m.\n\n\n\n$75.00 + GST per participant\, payable online\n$67.50 + GST per MSBM member\, payable online\n\n\n\nWant to learn a new art? Now is your chance! This workshop is perfect for anyone who has never beaded before! \nSIGN UP HERE!
URL:https://msbm.mb.ca/event/debutant-perlage-avec-prairie-owl-beads-beginner-beadwork-with-prairie-owl-beads/
LOCATION:Old City Hall of Saint-Boniface\, 219 Provencher Boulevard\, Winnipeg\, Manitoba\, Canada
CATEGORIES:on site,workshops
ORGANIZER;CN="Lo%C3%AFk Raymond":MAILTO:experiences@msbm.mb.ca
END:VEVENT
BEGIN:VEVENT
DTSTART;TZID=America/Winnipeg:20241130T180000
DTEND;TZID=America/Winnipeg:20241130T220000
DTSTAMP:20260422T185720
CREATED:20240911T155017Z
LAST-MODIFIED:20241009T171129Z
UID:8572-1732989600-1733004000@msbm.mb.ca
SUMMARY:Vin et Fromage Soirée des Membres / Members Eve Wine & Cheese
DESCRIPTION:(English message follows) \nLe RSVP pour notre vins et fromages (et chocolats) annuel d’appréciation des membres est ouvert ! Cette année\, l'événement vins et fromages se déroulera dans un lieu historique différent\, l'ancien hôtel de ville de Saint-Boniface\, situé au 219\, boulevard Provencher ! \nVous pouvez vous attendre à recevoir un petit cadeau de notre part en guise de remerciement\, une merveilleuse sélection de vins\, de fromages et de chocolats\, et vous aurez le privilège d’être les premiers à profiter de nos ventes de Noël dans notre Belle Boutique Blanche ! \nVous êtes un peu inquiet parce que vous n’êtes pas membre du musée ? Pas de problème ! Vous pouvez acheter une adhésion en ligne par courriel à experiences@msbm.mb.ca ou vous pouvez RSVP et acheter une adhésion à la porte le soir de l’évènement ! \n\nThe RSVP for our annual members appreciation wine and cheese (and chocolate) is open! This year the Wine & Cheese event will be held at a different historical location\, the old Saint-Boniface City Hall at 219 Provencher Boulevard! \nYou can expect a small gift from us as a thank you\, wonderful selection of wine\, cheese and chocolate pairings\, and get the first dibs on our holiday sales in our Belle Boutique Blanche! \nWorried because you aren't a member to the museum? Not a problem! You can purchase a membership online via email at experiences@msbm.mb.ca or you can RSVP and purchase a membership at the door the evening of the event! \n  \nRSVP
URL:https://msbm.mb.ca/event/vin-et-fromage-soiree-des-membres-members-eve-wine-cheese/
LOCATION:Old City Hall of Saint-Boniface\, 219 Provencher Boulevard\, Winnipeg\, Manitoba\, Canada
CATEGORIES:on site
ORGANIZER;CN="Lo%C3%AFk Raymond":MAILTO:experiences@msbm.mb.ca
END:VEVENT
BEGIN:VEVENT
DTSTART;TZID=America/Winnipeg:20241107T160000
DTEND;TZID=America/Winnipeg:20241107T193000
DTSTAMP:20260422T185720
CREATED:20240911T152452Z
LAST-MODIFIED:20240911T152659Z
UID:8558-1730995200-1731007800@msbm.mb.ca
SUMMARY:Cercle de perlage / Beading Circle *FREE*
DESCRIPTION:(English message follows) \n\nEntrée gratuite pour perler avec des amis et de nouvelles connaissances. Apportez vos propres projets et venez en discuter avec d’autres\, trouvez l’inspiration et l’amitié au prochain cercle de perlage parmi les artéfacts.\n\n\n \n\n\nDate du prochain cercle de perlage : 7 novembre 2024\, de 16h à 19h30\n\n\n \n\n\nSur place au 219 boulevard Provencher\, Winnipeg\n\n\n\nFree drop-in to bead among friends and new acquaintances. Bring your own project and come discuss it with others\, find inspiration and friendship at the next beading circle among the artefacts.\n\n\n \n\n\nNext beading circle date: November 7\, 2024\, from 4 pm to 7 pm\n\n\n \n\n\nLocation: 219 Provencher Boulevard\, Winnipeg
URL:https://msbm.mb.ca/event/cercle-de-perlage-beading-circle-free-6/
LOCATION:Old City Hall of Saint-Boniface\, 219 Provencher Boulevard\, Winnipeg\, Manitoba\, Canada
CATEGORIES:on site
ORGANIZER;CN="Lo%C3%AFk Raymond":MAILTO:experiences@msbm.mb.ca
END:VEVENT
BEGIN:VEVENT
DTSTART;TZID=America/Winnipeg:20241024T160000
DTEND;TZID=America/Winnipeg:20241024T190000
DTSTAMP:20260422T185720
CREATED:20240910T215127Z
LAST-MODIFIED:20241003T172323Z
UID:8554-1729785600-1729796400@msbm.mb.ca
SUMMARY:Cercle de perlage / Beading Circle *FREE*
DESCRIPTION:(English message follows) \n\nEntrée gratuite pour perler avec des amis et de nouvelles connaissances. Apportez vos propres projets et venez en discuter avec d’autres\, trouvez l’inspiration et l’amitié au prochain cercle de perlage parmi les artéfacts.\n\n\n \n\n\nDate du prochain cercle de perlage : 24 octobre 2024\, de 16h à 19h\n\n\n \n\n\nSur place au 219 boulevard Provencher\, Winnipeg (2e étage)\n\n\n\nFree drop-in to bead among friends and new acquaintances. Bring your own project and come discuss it with others\, find inspiration and friendship at the next beading circle among the artefacts.\n\n\n \n\n\nNext beading circle date: October 24\, 2024\, from 4 pm to 7 pm\n\n\n \n\n\nLocation: 219 Provencher Boulevard\, Winnipeg (2nd floor)
URL:https://msbm.mb.ca/event/cercle-de-perlage-beading-circle-free-5/
LOCATION:Old City Hall of Saint-Boniface\, 219 Provencher Boulevard\, Winnipeg\, Manitoba\, Canada
CATEGORIES:on site
ORGANIZER;CN="Lo%C3%AFk Raymond":MAILTO:experiences@msbm.mb.ca
END:VEVENT
BEGIN:VEVENT
DTSTART;TZID=America/Winnipeg:20240928T120000
DTEND;TZID=America/Winnipeg:20240928T160000
DTSTAMP:20260422T185720
CREATED:20240911T143323Z
LAST-MODIFIED:20240911T143323Z
UID:8556-1727524800-1727539200@msbm.mb.ca
SUMMARY:National Day for Truth and Reconciliation
DESCRIPTION:(English message follows)\n\n\n\nLe samedi 28 septembre\, de 12 h à 16 h\, dans le cadre de la Journée nationale de la vérité et de la réconciliation\, le Musée de Saint-Boniface organise des activités éducatives dans l'exposition Louis Riel qui se trouve au 2e étage du 219\, boulevard Provencher.\n\n\n\n\n\n\n\nOn Saturday\, September 28\, from 12 pm to 4 pm\, for National Day for Truth and Reconciliation the Saint-Boniface Museum is hosting educational activities in the Louis Riel exhibit currently found on the 2nd floor at 219 Provencher Boulevard.\n\n\n\n\n\nQuestions ?\nexperiences@msbm.mb.ca
URL:https://msbm.mb.ca/event/national-day-for-truth-and-reconciliation/
LOCATION:Old City Hall of Saint-Boniface\, 219 Provencher Boulevard\, Winnipeg\, Manitoba\, Canada
CATEGORIES:on site
ORGANIZER;CN="Lo%C3%AFk Raymond":MAILTO:experiences@msbm.mb.ca
END:VEVENT
BEGIN:VEVENT
DTSTART;TZID=America/Winnipeg:20240829T100000
DTEND;TZID=America/Winnipeg:20240829T200000
DTSTAMP:20260422T185720
CREATED:20240819T150734Z
LAST-MODIFIED:20240819T152046Z
UID:8512-1724925600-1724961600@msbm.mb.ca
SUMMARY:BBQ and reopening of La Belle Boutique Blanche
DESCRIPTION:Le 29 août 2024\, de 10 h à 20 h\, La Belle Boutique Blanche rouvrira ses portes au public avec un nouvel espace ! Nous nous trouverons à l'ancien hôtel de ville de Saint-Boniface (au 219\, boulevard Provencher) au 3e étage. \nLe BBQ et les activités sont de 16 h à 19 h ! \n5 $ pour un hotdog\, des chips et un breuvage. \n\nOn August 29\, 2024\, from 10 am to 8 pm\, La Belle Boutique Blanche will be reopening to the public with a new location! We can be found at the old Saint-Boniface city hall (at 219 Provencher blvd) on the 3rd floor.  \nBBQ and activities is from 4 pm to 7 pm!  \n$5 for a hot dog\, chips and a drink. \nQuestions ? \nexperiences@msbm.mb.ca / 204-237-4500 ext 420
URL:https://msbm.mb.ca/event/bbq-and-reopening-of-la-belle-boutique-blanche/
LOCATION:Old City Hall of Saint-Boniface\, 219 Provencher Boulevard\, Winnipeg\, Manitoba\, Canada
ORGANIZER;CN="Lo%C3%AFk Raymond":MAILTO:experiences@msbm.mb.ca
END:VEVENT
END:VCALENDAR