BEGIN:VCALENDAR
VERSION:2.0
PRODID:-//Le Musee de Saint Boniface Museum - ECPv6.15.20//NONSGML v1.0//EN
CALSCALE:GREGORIAN
METHOD:PUBLISH
X-WR-CALNAME:Le Musee de Saint Boniface Museum
X-ORIGINAL-URL:https://msbm.mb.ca
X-WR-CALDESC:Events for Le Musee de Saint Boniface Museum
REFRESH-INTERVAL;VALUE=DURATION:PT1H
X-Robots-Tag:noindex
X-PUBLISHED-TTL:PT1H
BEGIN:VTIMEZONE
TZID:America/Winnipeg
BEGIN:DAYLIGHT
TZOFFSETFROM:-0600
TZOFFSETTO:-0500
TZNAME:CDT
DTSTART:20240310T080000
END:DAYLIGHT
BEGIN:STANDARD
TZOFFSETFROM:-0500
TZOFFSETTO:-0600
TZNAME:CST
DTSTART:20241103T070000
END:STANDARD
BEGIN:DAYLIGHT
TZOFFSETFROM:-0600
TZOFFSETTO:-0500
TZNAME:CDT
DTSTART:20250309T080000
END:DAYLIGHT
BEGIN:STANDARD
TZOFFSETFROM:-0500
TZOFFSETTO:-0600
TZNAME:CST
DTSTART:20251102T070000
END:STANDARD
BEGIN:DAYLIGHT
TZOFFSETFROM:-0600
TZOFFSETTO:-0500
TZNAME:CDT
DTSTART:20260308T080000
END:DAYLIGHT
BEGIN:STANDARD
TZOFFSETFROM:-0500
TZOFFSETTO:-0600
TZNAME:CST
DTSTART:20261101T070000
END:STANDARD
END:VTIMEZONE
BEGIN:VEVENT
DTSTART;TZID=America/Winnipeg:20251129T180000
DTEND;TZID=America/Winnipeg:20251129T220000
DTSTAMP:20260421T032655
CREATED:20251027T203714Z
LAST-MODIFIED:20251028T173027Z
UID:9364-1764439200-1764453600@msbm.mb.ca
SUMMARY:Vin et Fromage Soirée des Membres / Members Eve Wine & Cheese
DESCRIPTION:(English message follows) \nLe RSVP pour notre vins et fromages (et chocolats) annuel d’appréciation des membres est ouvert ! Cette année\, l'événement vins et fromages se déroulera dans un lieu historique différent\, l'ancien hôtel de ville de Saint-Boniface\, situé au 219\, boulevard Provencher ! \nVous pouvez vous attendre à recevoir un petit cadeau de notre part en guise de remerciement\, une merveilleuse sélection de vins\, de fromages et de chocolats\, et vous aurez le privilège d’être les premiers à profiter de nos ventes de Noël dans notre Belle Boutique Blanche ! \nVous êtes un peu inquiet parce que vous n’êtes pas membre du musée ? Pas de problème ! Vous pouvez acheter une adhésion en ligne sur notre site web ou vous pouvez RSVP et acheter une adhésion à la porte le soir de l’évènement ! \n\nThe RSVP for our annual members appreciation wine and cheese (and chocolate) is open! This year the Wine & Cheese event will be held at a different historical location\, the old Saint-Boniface City Hall at 219 Provencher Boulevard! \nYou can expect a small gift from us as a thank you\, wonderful selection of wine\, cheese and chocolate pairings\, and get the first dibs on our holiday sales in our Belle Boutique Blanche! \nWorried because you aren't a member to the museum? Not a problem! You can purchase a membership online via our shop or you can RSVP and purchase a membership at the door the evening of the event! \n  \nRSVP
URL:https://msbm.mb.ca/event/vin-et-fromage-soiree-des-membres-members-eve-wine-cheese-2/
LOCATION:Old City Hall of Saint-Boniface\, 219 Provencher Boulevard\, Winnipeg\, Manitoba\, Canada
CATEGORIES:on site
ORGANIZER;CN="Lo%C3%AFk Raymond":MAILTO:experiences@msbm.mb.ca
END:VEVENT
END:VCALENDAR