BEGIN:VCALENDAR
VERSION:2.0
PRODID:-//Le Musee de Saint Boniface Museum - ECPv6.15.20//NONSGML v1.0//EN
CALSCALE:GREGORIAN
METHOD:PUBLISH
X-ORIGINAL-URL:https://msbm.mb.ca
X-WR-CALDESC:Events for Le Musee de Saint Boniface Museum
REFRESH-INTERVAL;VALUE=DURATION:PT1H
X-Robots-Tag:noindex
X-PUBLISHED-TTL:PT1H
BEGIN:VTIMEZONE
TZID:America/Winnipeg
BEGIN:DAYLIGHT
TZOFFSETFROM:-0600
TZOFFSETTO:-0500
TZNAME:CDT
DTSTART:20240310T080000
END:DAYLIGHT
BEGIN:STANDARD
TZOFFSETFROM:-0500
TZOFFSETTO:-0600
TZNAME:CST
DTSTART:20241103T070000
END:STANDARD
BEGIN:DAYLIGHT
TZOFFSETFROM:-0600
TZOFFSETTO:-0500
TZNAME:CDT
DTSTART:20250309T080000
END:DAYLIGHT
BEGIN:STANDARD
TZOFFSETFROM:-0500
TZOFFSETTO:-0600
TZNAME:CST
DTSTART:20251102T070000
END:STANDARD
BEGIN:DAYLIGHT
TZOFFSETFROM:-0600
TZOFFSETTO:-0500
TZNAME:CDT
DTSTART:20260308T080000
END:DAYLIGHT
BEGIN:STANDARD
TZOFFSETFROM:-0500
TZOFFSETTO:-0600
TZNAME:CST
DTSTART:20261101T070000
END:STANDARD
END:VTIMEZONE
BEGIN:VEVENT
DTSTART;TZID=America/Winnipeg:20250503T120000
DTEND;TZID=America/Winnipeg:20250503T150000
DTSTAMP:20260421T074640
CREATED:20250324T155313Z
LAST-MODIFIED:20250324T155357Z
UID:8906-1746273600-1746284400@msbm.mb.ca
SUMMARY:Cercle de perlage / Beading Circle *FREE*
DESCRIPTION:(English message follows)\n\nEntrée gratuite pour perler avec des amis et de nouvelles connaissances. Apportez vos propres projets et venez en discuter avec d’autres\, trouvez l’inspiration et l’amitié au prochain cercle de perlage parmi les artéfacts.\n\n\n \n\n\nDate du prochain cercle de perlage : 3 mai 2025\, de 12h à 15h\n\n\n \n\n\nSur place au 219 boulevard Provencher\, Winnipeg\n\n\n\nFree drop-in to bead among friends and new acquaintances. Bring your own project and come discuss it with others\, find inspiration and friendship at the next beading circle among the artefacts.\n\n\n \n\n\nNext beading circle date: May 3\, 2025\, from 12 pm to 3 pm\n\n\n \n\n\nLocation: 219 Provencher Boulevard\, Winnipeg
URL:https://msbm.mb.ca/event/cercle-de-perlage-beading-circle-free-14/
LOCATION:Old City Hall of Saint-Boniface\, 219 Provencher Boulevard\, Winnipeg\, Manitoba\, Canada
CATEGORIES:on site
ORGANIZER;CN="Lo%C3%AFk Raymond":MAILTO:experiences@msbm.mb.ca
END:VEVENT
BEGIN:VEVENT
DTSTART;TZID=America/Winnipeg:20250510T120000
DTEND;TZID=America/Winnipeg:20250510T150000
DTSTAMP:20260421T074640
CREATED:20250324T155443Z
LAST-MODIFIED:20250324T155443Z
UID:8908-1746878400-1746889200@msbm.mb.ca
SUMMARY:Cercle de perlage / Beading Circle *FREE*
DESCRIPTION:(English message follows)\n\nEntrée gratuite pour perler avec des amis et de nouvelles connaissances. Apportez vos propres projets et venez en discuter avec d’autres\, trouvez l’inspiration et l’amitié au prochain cercle de perlage parmi les artéfacts.\n\n\n \n\n\nDate du prochain cercle de perlage : 10 mai 2025\, de 12h à 15h\n\n\n \n\n\nSur place au 219 boulevard Provencher\, Winnipeg\n\n\n\nFree drop-in to bead among friends and new acquaintances. Bring your own project and come discuss it with others\, find inspiration and friendship at the next beading circle among the artefacts.\n\n\n \n\n\nNext beading circle date: May 10\, 2025\, from 12 pm to 3 pm\n\n\n \n\n\nLocation: 219 Provencher Boulevard\, Winnipeg
URL:https://msbm.mb.ca/event/cercle-de-perlage-beading-circle-free-15/
LOCATION:Old City Hall of Saint-Boniface\, 219 Provencher Boulevard\, Winnipeg\, Manitoba\, Canada
CATEGORIES:on site
ORGANIZER;CN="Lo%C3%AFk Raymond":MAILTO:experiences@msbm.mb.ca
END:VEVENT
BEGIN:VEVENT
DTSTART;TZID=America/Winnipeg:20250524T120000
DTEND;TZID=America/Winnipeg:20250524T150000
DTSTAMP:20260421T074640
CREATED:20250324T155546Z
LAST-MODIFIED:20250324T155546Z
UID:8911-1748088000-1748098800@msbm.mb.ca
SUMMARY:Cercle de perlage / Beading Circle *FREE*
DESCRIPTION:(English message follows)\n\nEntrée gratuite pour perler avec des amis et de nouvelles connaissances. Apportez vos propres projets et venez en discuter avec d’autres\, trouvez l’inspiration et l’amitié au prochain cercle de perlage parmi les artéfacts.\n\n\n \n\n\nDate du prochain cercle de perlage : 24 mai 2025\, de 12h à 15h\n\n\n \n\n\nSur place au 219 boulevard Provencher\, Winnipeg\n\n\n\nFree drop-in to bead among friends and new acquaintances. Bring your own project and come discuss it with others\, find inspiration and friendship at the next beading circle among the artefacts.\n\n\n \n\n\nNext beading circle date: May 24\, 2025\, from 12 pm to 3 pm\n\n\n \n\n\nLocation: 219 Provencher Boulevard\, Winnipeg
URL:https://msbm.mb.ca/event/cercle-de-perlage-beading-circle-free-16/
LOCATION:Old City Hall of Saint-Boniface\, 219 Provencher Boulevard\, Winnipeg\, Manitoba\, Canada
CATEGORIES:on site
ORGANIZER;CN="Lo%C3%AFk Raymond":MAILTO:experiences@msbm.mb.ca
END:VEVENT
BEGIN:VEVENT
DTSTART;TZID=America/Winnipeg:20250531T120000
DTEND;TZID=America/Winnipeg:20250531T150000
DTSTAMP:20260421T074640
CREATED:20250324T155730Z
LAST-MODIFIED:20250324T155730Z
UID:8913-1748692800-1748703600@msbm.mb.ca
SUMMARY:Cercle de perlage / Beading Circle *FREE*
DESCRIPTION:(English message follows)\n\nEntrée gratuite pour perler avec des amis et de nouvelles connaissances. Apportez vos propres projets et venez en discuter avec d’autres\, trouvez l’inspiration et l’amitié au prochain cercle de perlage parmi les artéfacts.\n\n\n \n\n\nDate du prochain cercle de perlage : 31 mai 2025\, de 12h à 15h\n\n\n \n\n\nSur place au 219 boulevard Provencher\, Winnipeg\n\n\n\nFree drop-in to bead among friends and new acquaintances. Bring your own project and come discuss it with others\, find inspiration and friendship at the next beading circle among the artefacts.\n\n\n \n\n\nNext beading circle date: May 31\, 2025\, from 12 pm to 3 pm\n\n\n \n\n\nLocation: 219 Provencher Boulevard\, Winnipeg
URL:https://msbm.mb.ca/event/cercle-de-perlage-beading-circle-free-17/
LOCATION:Old City Hall of Saint-Boniface\, 219 Provencher Boulevard\, Winnipeg\, Manitoba\, Canada
CATEGORIES:on site
ORGANIZER;CN="Lo%C3%AFk Raymond":MAILTO:experiences@msbm.mb.ca
END:VEVENT
END:VCALENDAR