BEGIN:VCALENDAR
VERSION:2.0
PRODID:-//Le Musee de Saint Boniface Museum - ECPv6.15.20//NONSGML v1.0//EN
CALSCALE:GREGORIAN
METHOD:PUBLISH
X-ORIGINAL-URL:https://msbm.mb.ca
X-WR-CALDESC:Events for Le Musee de Saint Boniface Museum
REFRESH-INTERVAL;VALUE=DURATION:PT1H
X-Robots-Tag:noindex
X-PUBLISHED-TTL:PT1H
BEGIN:VTIMEZONE
TZID:America/Winnipeg
BEGIN:DAYLIGHT
TZOFFSETFROM:-0600
TZOFFSETTO:-0500
TZNAME:CDT
DTSTART:20230312T080000
END:DAYLIGHT
BEGIN:STANDARD
TZOFFSETFROM:-0500
TZOFFSETTO:-0600
TZNAME:CST
DTSTART:20231105T070000
END:STANDARD
BEGIN:DAYLIGHT
TZOFFSETFROM:-0600
TZOFFSETTO:-0500
TZNAME:CDT
DTSTART:20240310T080000
END:DAYLIGHT
BEGIN:STANDARD
TZOFFSETFROM:-0500
TZOFFSETTO:-0600
TZNAME:CST
DTSTART:20241103T070000
END:STANDARD
BEGIN:DAYLIGHT
TZOFFSETFROM:-0600
TZOFFSETTO:-0500
TZNAME:CDT
DTSTART:20250309T080000
END:DAYLIGHT
BEGIN:STANDARD
TZOFFSETFROM:-0500
TZOFFSETTO:-0600
TZNAME:CST
DTSTART:20251102T070000
END:STANDARD
END:VTIMEZONE
BEGIN:VEVENT
DTSTART;TZID=America/Winnipeg:20240928T120000
DTEND;TZID=America/Winnipeg:20240928T160000
DTSTAMP:20260421T204508
CREATED:20240911T143323Z
LAST-MODIFIED:20240911T143323Z
UID:8556-1727524800-1727539200@msbm.mb.ca
SUMMARY:National Day for Truth and Reconciliation
DESCRIPTION:(English message follows)\n\n\n\nLe samedi 28 septembre\, de 12 h à 16 h\, dans le cadre de la Journée nationale de la vérité et de la réconciliation\, le Musée de Saint-Boniface organise des activités éducatives dans l'exposition Louis Riel qui se trouve au 2e étage du 219\, boulevard Provencher.\n\n\n\n\n\n\n\nOn Saturday\, September 28\, from 12 pm to 4 pm\, for National Day for Truth and Reconciliation the Saint-Boniface Museum is hosting educational activities in the Louis Riel exhibit currently found on the 2nd floor at 219 Provencher Boulevard.\n\n\n\n\n\nQuestions ?\nexperiences@msbm.mb.ca
URL:https://msbm.mb.ca/event/national-day-for-truth-and-reconciliation/
LOCATION:Old City Hall of Saint-Boniface\, 219 Provencher Boulevard\, Winnipeg\, Manitoba\, Canada
CATEGORIES:on site
ORGANIZER;CN="Lo%C3%AFk Raymond":MAILTO:experiences@msbm.mb.ca
END:VEVENT
END:VCALENDAR