BEGIN:VCALENDAR
VERSION:2.0
PRODID:-//Le Musee de Saint Boniface Museum - ECPv6.15.20//NONSGML v1.0//EN
CALSCALE:GREGORIAN
METHOD:PUBLISH
X-WR-CALNAME:Le Musee de Saint Boniface Museum
X-ORIGINAL-URL:https://msbm.mb.ca
X-WR-CALDESC:Events for Le Musee de Saint Boniface Museum
REFRESH-INTERVAL;VALUE=DURATION:PT1H
X-Robots-Tag:noindex
X-PUBLISHED-TTL:PT1H
BEGIN:VTIMEZONE
TZID:America/Winnipeg
BEGIN:DAYLIGHT
TZOFFSETFROM:-0600
TZOFFSETTO:-0500
TZNAME:CDT
DTSTART:20230312T080000
END:DAYLIGHT
BEGIN:STANDARD
TZOFFSETFROM:-0500
TZOFFSETTO:-0600
TZNAME:CST
DTSTART:20231105T070000
END:STANDARD
BEGIN:DAYLIGHT
TZOFFSETFROM:-0600
TZOFFSETTO:-0500
TZNAME:CDT
DTSTART:20240310T080000
END:DAYLIGHT
BEGIN:STANDARD
TZOFFSETFROM:-0500
TZOFFSETTO:-0600
TZNAME:CST
DTSTART:20241103T070000
END:STANDARD
BEGIN:DAYLIGHT
TZOFFSETFROM:-0600
TZOFFSETTO:-0500
TZNAME:CDT
DTSTART:20250309T080000
END:DAYLIGHT
BEGIN:STANDARD
TZOFFSETFROM:-0500
TZOFFSETTO:-0600
TZNAME:CST
DTSTART:20251102T070000
END:STANDARD
END:VTIMEZONE
BEGIN:VEVENT
DTSTART;TZID=America/Winnipeg:20240502T173000
DTEND;TZID=America/Winnipeg:20240502T193000
DTSTAMP:20260422T023413
CREATED:20240327T182333Z
LAST-MODIFIED:20240327T182411Z
UID:8192-1714671000-1714678200@msbm.mb.ca
SUMMARY:Honouring Our Mothers - Continuation
DESCRIPTION:(Le message en français suit) \nTracy Charette Fehr is hosting a number gatherings of groups of Métis women\, girls and gender diverse/LGBTQ2 together in sewing\, stitching\, beading circles. We will be naming our female ancestors\, sisters\, mothers\, grandmothers and then stitching these names onto textile/fabric/fur/hide pieces. \nSign up here \nMore information here \n\nTracy Charette Fehr organise des rassemblements de groupes de femmes métisses\, de filles et de personnes de genres différents/LGBTQ2 dans des cercles de couture\, de broderie et de perlage. Nous nommerons nos ancêtres féminines\, nos sœurs\, nos mères\, nos grands-mères\, puis nous coudrons ces noms sur des pièces de textile\, de fourrure ou de peau. Les cercles seront seulement offerts en anglais. \nInscrivez-vous ici \nPlus d’informations ici
URL:https://msbm.mb.ca/event/honouring-our-mothers-continuation/2024-05-02/
LOCATION:Le Musée de Saint-Boniface Museum\, 494\, ave Taché\, Winnipeg\, Manitoba\, Canada
CATEGORIES:on site
ORGANIZER;CN="Lo%C3%AFk Raymond":MAILTO:experiences@msbm.mb.ca
END:VEVENT
BEGIN:VEVENT
DTSTART;TZID=America/Winnipeg:20240509T173000
DTEND;TZID=America/Winnipeg:20240509T193000
DTSTAMP:20260422T023413
CREATED:20240327T182333Z
LAST-MODIFIED:20240327T182411Z
UID:8193-1715275800-1715283000@msbm.mb.ca
SUMMARY:Honouring Our Mothers - Continuation
DESCRIPTION:(Le message en français suit) \nTracy Charette Fehr is hosting a number gatherings of groups of Métis women\, girls and gender diverse/LGBTQ2 together in sewing\, stitching\, beading circles. We will be naming our female ancestors\, sisters\, mothers\, grandmothers and then stitching these names onto textile/fabric/fur/hide pieces. \nSign up here \nMore information here \n\nTracy Charette Fehr organise des rassemblements de groupes de femmes métisses\, de filles et de personnes de genres différents/LGBTQ2 dans des cercles de couture\, de broderie et de perlage. Nous nommerons nos ancêtres féminines\, nos sœurs\, nos mères\, nos grands-mères\, puis nous coudrons ces noms sur des pièces de textile\, de fourrure ou de peau. Les cercles seront seulement offerts en anglais. \nInscrivez-vous ici \nPlus d’informations ici
URL:https://msbm.mb.ca/event/honouring-our-mothers-continuation/2024-05-09/
LOCATION:Le Musée de Saint-Boniface Museum\, 494\, ave Taché\, Winnipeg\, Manitoba\, Canada
CATEGORIES:on site
ORGANIZER;CN="Lo%C3%AFk Raymond":MAILTO:experiences@msbm.mb.ca
END:VEVENT
BEGIN:VEVENT
DTSTART;TZID=America/Winnipeg:20240516T173000
DTEND;TZID=America/Winnipeg:20240516T193000
DTSTAMP:20260422T023413
CREATED:20240327T182333Z
LAST-MODIFIED:20240327T182411Z
UID:8194-1715880600-1715887800@msbm.mb.ca
SUMMARY:Honouring Our Mothers - Continuation
DESCRIPTION:(Le message en français suit) \nTracy Charette Fehr is hosting a number gatherings of groups of Métis women\, girls and gender diverse/LGBTQ2 together in sewing\, stitching\, beading circles. We will be naming our female ancestors\, sisters\, mothers\, grandmothers and then stitching these names onto textile/fabric/fur/hide pieces. \nSign up here \nMore information here \n\nTracy Charette Fehr organise des rassemblements de groupes de femmes métisses\, de filles et de personnes de genres différents/LGBTQ2 dans des cercles de couture\, de broderie et de perlage. Nous nommerons nos ancêtres féminines\, nos sœurs\, nos mères\, nos grands-mères\, puis nous coudrons ces noms sur des pièces de textile\, de fourrure ou de peau. Les cercles seront seulement offerts en anglais. \nInscrivez-vous ici \nPlus d’informations ici
URL:https://msbm.mb.ca/event/honouring-our-mothers-continuation/2024-05-16/
LOCATION:Le Musée de Saint-Boniface Museum\, 494\, ave Taché\, Winnipeg\, Manitoba\, Canada
CATEGORIES:on site
ORGANIZER;CN="Lo%C3%AFk Raymond":MAILTO:experiences@msbm.mb.ca
END:VEVENT
BEGIN:VEVENT
DTSTART;TZID=America/Winnipeg:20240523T173000
DTEND;TZID=America/Winnipeg:20240523T193000
DTSTAMP:20260422T023413
CREATED:20240327T182333Z
LAST-MODIFIED:20240327T182411Z
UID:8195-1716485400-1716492600@msbm.mb.ca
SUMMARY:Honouring Our Mothers - Continuation
DESCRIPTION:(Le message en français suit) \nTracy Charette Fehr is hosting a number gatherings of groups of Métis women\, girls and gender diverse/LGBTQ2 together in sewing\, stitching\, beading circles. We will be naming our female ancestors\, sisters\, mothers\, grandmothers and then stitching these names onto textile/fabric/fur/hide pieces. \nSign up here \nMore information here \n\nTracy Charette Fehr organise des rassemblements de groupes de femmes métisses\, de filles et de personnes de genres différents/LGBTQ2 dans des cercles de couture\, de broderie et de perlage. Nous nommerons nos ancêtres féminines\, nos sœurs\, nos mères\, nos grands-mères\, puis nous coudrons ces noms sur des pièces de textile\, de fourrure ou de peau. Les cercles seront seulement offerts en anglais. \nInscrivez-vous ici \nPlus d’informations ici
URL:https://msbm.mb.ca/event/honouring-our-mothers-continuation/2024-05-23/
LOCATION:Le Musée de Saint-Boniface Museum\, 494\, ave Taché\, Winnipeg\, Manitoba\, Canada
CATEGORIES:on site
ORGANIZER;CN="Lo%C3%AFk Raymond":MAILTO:experiences@msbm.mb.ca
END:VEVENT
BEGIN:VEVENT
DTSTART;TZID=America/Winnipeg:20240525T100000
DTEND;TZID=America/Winnipeg:20240525T160000
DTSTAMP:20260422T023413
CREATED:20240415T163538Z
LAST-MODIFIED:20240426T185714Z
UID:8322-1716631200-1716652800@msbm.mb.ca
SUMMARY:Doors Open
DESCRIPTION:(English message follows)\n\n\n \n\n\nLe Musée de Saint-Boniface participe à nouveau à Winnipeg Portes Ouvertes le samedi 25 mai 2024\, de 10h à 16h ! Venez visiter le musée gratuitement et essayez notre activité sans rendez-vous sur la façon dont le musée s'y prend pour manipuler et cataloguer les artéfacts dans la collection ! \n\n\n \n\n\nIl y a beaucoup à apprendre dans le plus vieux bâtiment de la ville\, ne manquez pas votre chance d'en savoir plus sur le fonctionnement du musée !\n\n\n \n\n\n\n\n\n \n\n\nThe Saint-Boniface Museum is once again taking part in Doors Open Winnipeg on Saturday\, May 25\, 2024\, from 10 am to 4 pm! Come visit the museum for free and try out our drop-in activity on how the museum goes about handling and cataloging artefacts into the collection! \n\n\n \n\n\nLots to learn at the oldest building in the city\, don't miss out on your chance to learn more about how the museum functions!
URL:https://msbm.mb.ca/event/doors-open/
LOCATION:Le Musée de Saint-Boniface Museum\, 494\, ave Taché\, Winnipeg\, Manitoba\, Canada
CATEGORIES:on site
ORGANIZER;CN="Lo%C3%AFk Raymond":MAILTO:experiences@msbm.mb.ca
END:VEVENT
BEGIN:VEVENT
DTSTART;TZID=America/Winnipeg:20240530T173000
DTEND;TZID=America/Winnipeg:20240530T193000
DTSTAMP:20260422T023413
CREATED:20240327T182333Z
LAST-MODIFIED:20240327T182411Z
UID:8196-1717090200-1717097400@msbm.mb.ca
SUMMARY:Honouring Our Mothers - Continuation
DESCRIPTION:(Le message en français suit) \nTracy Charette Fehr is hosting a number gatherings of groups of Métis women\, girls and gender diverse/LGBTQ2 together in sewing\, stitching\, beading circles. We will be naming our female ancestors\, sisters\, mothers\, grandmothers and then stitching these names onto textile/fabric/fur/hide pieces. \nSign up here \nMore information here \n\nTracy Charette Fehr organise des rassemblements de groupes de femmes métisses\, de filles et de personnes de genres différents/LGBTQ2 dans des cercles de couture\, de broderie et de perlage. Nous nommerons nos ancêtres féminines\, nos sœurs\, nos mères\, nos grands-mères\, puis nous coudrons ces noms sur des pièces de textile\, de fourrure ou de peau. Les cercles seront seulement offerts en anglais. \nInscrivez-vous ici \nPlus d’informations ici
URL:https://msbm.mb.ca/event/honouring-our-mothers-continuation/2024-05-30/
LOCATION:Le Musée de Saint-Boniface Museum\, 494\, ave Taché\, Winnipeg\, Manitoba\, Canada
CATEGORIES:on site
ORGANIZER;CN="Lo%C3%AFk Raymond":MAILTO:experiences@msbm.mb.ca
END:VEVENT
END:VCALENDAR