BEGIN:VCALENDAR
VERSION:2.0
PRODID:-//Le Musee de Saint Boniface Museum - ECPv6.15.20//NONSGML v1.0//EN
CALSCALE:GREGORIAN
METHOD:PUBLISH
X-ORIGINAL-URL:https://msbm.mb.ca
X-WR-CALDESC:Events for Le Musee de Saint Boniface Museum
REFRESH-INTERVAL;VALUE=DURATION:PT1H
X-Robots-Tag:noindex
X-PUBLISHED-TTL:PT1H
BEGIN:VTIMEZONE
TZID:America/Winnipeg
BEGIN:DAYLIGHT
TZOFFSETFROM:-0600
TZOFFSETTO:-0500
TZNAME:CDT
DTSTART:20230312T080000
END:DAYLIGHT
BEGIN:STANDARD
TZOFFSETFROM:-0500
TZOFFSETTO:-0600
TZNAME:CST
DTSTART:20231105T070000
END:STANDARD
BEGIN:DAYLIGHT
TZOFFSETFROM:-0600
TZOFFSETTO:-0500
TZNAME:CDT
DTSTART:20240310T080000
END:DAYLIGHT
BEGIN:STANDARD
TZOFFSETFROM:-0500
TZOFFSETTO:-0600
TZNAME:CST
DTSTART:20241103T070000
END:STANDARD
BEGIN:DAYLIGHT
TZOFFSETFROM:-0600
TZOFFSETTO:-0500
TZNAME:CDT
DTSTART:20250309T080000
END:DAYLIGHT
BEGIN:STANDARD
TZOFFSETFROM:-0500
TZOFFSETTO:-0600
TZNAME:CST
DTSTART:20251102T070000
END:STANDARD
END:VTIMEZONE
BEGIN:VEVENT
DTSTART;TZID=America/Winnipeg:20240219T100000
DTEND;TZID=America/Winnipeg:20240219T160000
DTSTAMP:20260422T070258
CREATED:20240124T183828Z
LAST-MODIFIED:20240209T153041Z
UID:8071-1708336800-1708358400@msbm.mb.ca
SUMMARY:Journée Louis Riel / Louis Riel Day
DESCRIPTION:La Journée Louis Riel\, le 19 février\, de 10 h à 16 h. en collaboration avec MMF\, le Musée organise un évènement spéciale pour la journée. \n\nentrée gratuite au Musée pour la journée\nbannique gratuite\nlancement du project de Tracy Charette Fehr "Honouring our Mothers"\nJason Lepine\, violoniste - 11h à 13h\nAlexandre Tétrault\, violoniste - 14h30 à 15h30\n\nAu plaisir de vous y voir ! \n\nLouis Riel Day\, February 19\, 10 a.m. to 4 p.m. in collaboration with the Manitoba Métis Federation\, the Museum is organizing a special event for the day. \n\nfree admission to the Museum for the day\nfree bannock\nlaunch of Tracy Charette Fehr's project "Honouring our Mothers".\nJason Lepine\, fiddler - 11 a.m. to 1 p.m.\nAlexandre Tétrault\, fiddler - 2:30 to 3:30 p.m.\n\nSee you there!
URL:https://msbm.mb.ca/event/journee-louis-riel-louis-riel-day/
LOCATION:Le Musée de Saint-Boniface Museum\, 494\, ave Taché\, Winnipeg\, Manitoba\, Canada
CATEGORIES:on site
END:VEVENT
END:VCALENDAR