BEGIN:VCALENDAR
VERSION:2.0
PRODID:-//Le Musee de Saint Boniface Museum - ECPv6.15.20//NONSGML v1.0//EN
CALSCALE:GREGORIAN
METHOD:PUBLISH
X-ORIGINAL-URL:https://msbm.mb.ca
X-WR-CALDESC:Events for Le Musee de Saint Boniface Museum
REFRESH-INTERVAL;VALUE=DURATION:PT1H
X-Robots-Tag:noindex
X-PUBLISHED-TTL:PT1H
BEGIN:VTIMEZONE
TZID:America/Winnipeg
BEGIN:DAYLIGHT
TZOFFSETFROM:-0600
TZOFFSETTO:-0500
TZNAME:CDT
DTSTART:20220313T080000
END:DAYLIGHT
BEGIN:STANDARD
TZOFFSETFROM:-0500
TZOFFSETTO:-0600
TZNAME:CST
DTSTART:20221106T070000
END:STANDARD
BEGIN:DAYLIGHT
TZOFFSETFROM:-0600
TZOFFSETTO:-0500
TZNAME:CDT
DTSTART:20230312T080000
END:DAYLIGHT
BEGIN:STANDARD
TZOFFSETFROM:-0500
TZOFFSETTO:-0600
TZNAME:CST
DTSTART:20231105T070000
END:STANDARD
BEGIN:DAYLIGHT
TZOFFSETFROM:-0600
TZOFFSETTO:-0500
TZNAME:CDT
DTSTART:20240310T080000
END:DAYLIGHT
BEGIN:STANDARD
TZOFFSETFROM:-0500
TZOFFSETTO:-0600
TZNAME:CST
DTSTART:20241103T070000
END:STANDARD
END:VTIMEZONE
BEGIN:VEVENT
DTSTART;TZID=America/Winnipeg:20231202T100000
DTEND;TZID=America/Winnipeg:20231202T170000
DTSTAMP:20260422T103045
CREATED:20230901T171306Z
LAST-MODIFIED:20231106T180553Z
UID:7795-1701511200-1701536400@msbm.mb.ca
SUMMARY:Évènement et marché annuel des fêtes / Annual Holiday Event and Market
DESCRIPTION:(English message follows) \nL'évènement annuel des fêtes et le marché sont de retour cette année ! Venez visiter tous nos excellents vendeurs locaux\, détendez-vous près du feu extérieur en sirotant un chocolat chaud\, prenez une photo de famille avec le Père Noël\, fabriquez des objets originaux pour les fêtes et prenez une collation tout en visitant le plus vieil édifice de Winnipeg. Il y aura du plaisir pour toute la famille ! \nIl n'y aura pas de frais d'entrée pour cette journée ! \n\nThe annual holiday event and market is back again this year! Come visit all our awesome local vendors\, relax by the outdoor fire while sipping a hot cocoa\, take a family photo with Santa\, make some unique holiday crafts and have a snack while you visit the oldest building in Winnipeg. There will be fun for the whole family! \nThere will also be no admission fee for the day!
URL:https://msbm.mb.ca/event/annual-holiday-event-and-market/
LOCATION:Le Musée de Saint-Boniface Museum\, 494\, ave Taché\, Winnipeg\, Manitoba\, Canada
CATEGORIES:on site
ORGANIZER;CN="Lo%C3%AFk Raymond":MAILTO:experiences@msbm.mb.ca
END:VEVENT
BEGIN:VEVENT
DTSTART;TZID=America/Winnipeg:20231207T170000
DTEND;TZID=America/Winnipeg:20231207T200000
DTSTAMP:20260422T103045
CREATED:20231108T163152Z
LAST-MODIFIED:20231108T163152Z
UID:7894-1701968400-1701979200@msbm.mb.ca
SUMMARY:Atelier de filage / Spinning Workshop
DESCRIPTION:(English message follows) \nVous avez toujours voulu en savoir plus sur la fabrication du fil ? Venez découvrir par vous-même comment filer de la laine sur des fuseaux et essayez le rouet à l'ancienne ! Vous apprendrez également les différents types de bobines\, les techniques et bien d'autres choses encore ! \nVous repartirez avec un kit de matériel de l'atelier. \nL'atelier se déroule en anglais. \n\n\n15 $ par participant\, payable en ligne\n\n\n12 $ par membre MSBM\, payable en ligne\n\n\nAchetez vos billets ici \n\nEver wanted to learn more about how yarn was made? Come find out yourself how to spin yarn on spindles and get a shot at trying out the old school spinning wheel! You will also be taught about different types of spindles\, techniques and so much more! \nYou will get to go home with a kit of materials from the workshop. \nWorkshop is delivered in English. \n\n\n$15.00 per participant\, payable online\n\n\n$12.00 per MSBM member\, payable online\n\n\nBuy tickets here
URL:https://msbm.mb.ca/event/atelier-de-filage-spinning-workshop/
LOCATION:Le Musée de Saint-Boniface Museum\, 494\, ave Taché\, Winnipeg\, Manitoba\, Canada
CATEGORIES:on site,workshops
ORGANIZER;CN="Lo%C3%AFk Raymond":MAILTO:experiences@msbm.mb.ca
END:VEVENT
END:VCALENDAR