BEGIN:VCALENDAR
VERSION:2.0
PRODID:-//Le Musee de Saint Boniface Museum - ECPv6.15.20//NONSGML v1.0//EN
CALSCALE:GREGORIAN
METHOD:PUBLISH
X-WR-CALNAME:Le Musee de Saint Boniface Museum
X-ORIGINAL-URL:https://msbm.mb.ca
X-WR-CALDESC:Events for Le Musee de Saint Boniface Museum
REFRESH-INTERVAL;VALUE=DURATION:PT1H
X-Robots-Tag:noindex
X-PUBLISHED-TTL:PT1H
BEGIN:VTIMEZONE
TZID:America/Winnipeg
BEGIN:DAYLIGHT
TZOFFSETFROM:-0600
TZOFFSETTO:-0500
TZNAME:CDT
DTSTART:20220313T080000
END:DAYLIGHT
BEGIN:STANDARD
TZOFFSETFROM:-0500
TZOFFSETTO:-0600
TZNAME:CST
DTSTART:20221106T070000
END:STANDARD
BEGIN:DAYLIGHT
TZOFFSETFROM:-0600
TZOFFSETTO:-0500
TZNAME:CDT
DTSTART:20230312T080000
END:DAYLIGHT
BEGIN:STANDARD
TZOFFSETFROM:-0500
TZOFFSETTO:-0600
TZNAME:CST
DTSTART:20231105T070000
END:STANDARD
BEGIN:DAYLIGHT
TZOFFSETFROM:-0600
TZOFFSETTO:-0500
TZNAME:CDT
DTSTART:20240310T080000
END:DAYLIGHT
BEGIN:STANDARD
TZOFFSETFROM:-0500
TZOFFSETTO:-0600
TZNAME:CST
DTSTART:20241103T070000
END:STANDARD
END:VTIMEZONE
BEGIN:VEVENT
DTSTART;TZID=America/Winnipeg:20230915T130000
DTEND;TZID=America/Winnipeg:20230915T150000
DTSTAMP:20260422T152923
CREATED:20230901T154734Z
LAST-MODIFIED:20230901T154745Z
UID:7785-1694782800-1694790000@msbm.mb.ca
SUMMARY:Red River Cart with Ox
DESCRIPTION:(Message en français suit) \nOn September 15\, Terry Doerksen and his ox named Zeke will be arriving at the Museum at 1 p.m. ending their Red River Cart trip here! Come meet Terry and Zeke for this once in a lifetime experience! Zeke will only be on site for a limited amount of time as he needs to be taken away so that he can rest\, so be sure to arrive early to see him! \n\nLe 15 septembre\, Terry Doerksen et son bœuf Zeke arriveront au musée à 13 heures et termineront leur voyage avec leur charrette de la rivière Rouge ici ! Venez rencontrer Terry et Zeke pour cette expérience unique ! Zeke ne restera sur place que pendant un temps limité\, car il doit être emmené pour se reposer\, alors n'oubliez pas d'arriver tôt pour le voir !
URL:https://msbm.mb.ca/event/red-river-cart-with-ox/
LOCATION:Le Musée de Saint-Boniface Museum\, 494\, ave Taché\, Winnipeg\, Manitoba\, Canada
END:VEVENT
END:VCALENDAR