BEGIN:VCALENDAR
VERSION:2.0
PRODID:-//Le Musee de Saint Boniface Museum - ECPv6.15.20//NONSGML v1.0//EN
CALSCALE:GREGORIAN
METHOD:PUBLISH
X-WR-CALNAME:Le Musee de Saint Boniface Museum
X-ORIGINAL-URL:https://msbm.mb.ca
X-WR-CALDESC:Events for Le Musee de Saint Boniface Museum
REFRESH-INTERVAL;VALUE=DURATION:PT1H
X-Robots-Tag:noindex
X-PUBLISHED-TTL:PT1H
BEGIN:VTIMEZONE
TZID:America/Winnipeg
BEGIN:DAYLIGHT
TZOFFSETFROM:-0600
TZOFFSETTO:-0500
TZNAME:CDT
DTSTART:20190310T080000
END:DAYLIGHT
BEGIN:STANDARD
TZOFFSETFROM:-0500
TZOFFSETTO:-0600
TZNAME:CST
DTSTART:20191103T070000
END:STANDARD
BEGIN:DAYLIGHT
TZOFFSETFROM:-0600
TZOFFSETTO:-0500
TZNAME:CDT
DTSTART:20200308T080000
END:DAYLIGHT
BEGIN:STANDARD
TZOFFSETFROM:-0500
TZOFFSETTO:-0600
TZNAME:CST
DTSTART:20201101T070000
END:STANDARD
BEGIN:DAYLIGHT
TZOFFSETFROM:-0600
TZOFFSETTO:-0500
TZNAME:CDT
DTSTART:20210314T080000
END:DAYLIGHT
BEGIN:STANDARD
TZOFFSETFROM:-0500
TZOFFSETTO:-0600
TZNAME:CST
DTSTART:20211107T070000
END:STANDARD
END:VTIMEZONE
BEGIN:VEVENT
DTSTART;TZID=America/Winnipeg:20200217T120000
DTEND;TZID=America/Winnipeg:20200217T160000
DTSTAMP:20260425T103736
CREATED:20190207T210408Z
LAST-MODIFIED:20200207T214208Z
UID:1877-1581940800-1581955200@msbm.mb.ca
SUMMARY:Journée Louis Riel Day 2020
DESCRIPTION:Ouvert de midi à 16h \nDans la salle de communauté : \nFlower Beadwork Circle du Louis-Riel Institute \nActivités pour enfants animés par Louis-Riel Institute \nExposition des listes des terres attribuées aux enfants métis de chaque paroisse \nGalette et chocolat chaud \n  \nDans la Salle multi-usage :  \nDémonstrations de tissage aux doigts avec Carol James \nVente de capots \n  \nDans l’exposition Riel : \nProvenance des objets par Dr. Philippe Mailhot \n  \nVioloneux dans la chapelle : \n12h : Michael Audette & Brad Moggie \n13h : Alexandre Tétrault & Nicolas Dubois \n14h : Michael Audette & Brad Moggie \n15h : Patti Kusturok & Jeremy Rusu \n  \n  \nOpen from 12 noon – 4 pm\nIn the community room: \nLouis-Riel Institute’s Flower Beadwork Circle \nCrafts for families by Louis-Riel Institute \nThe Broadsides exhibited \nBannock and hot chocolate \n  \nIn the multi-purpose room: \nFinger weaving demonstration by Carol James \nVoyageur capote sale \n  \nIn the Riel exhibit: \nHistory of belongings with Dr. Philippe Mailhot \n  \nFiddle in the chapel: \n12 noon: Michael Audette & Brad Moggie \n1 p.m.: Alexandre Tétrault & Nicolas Dubois \n2 p.m.: Michael Audette & Brad Moggie \n3 p.m.: Patti Kusturok & Jeremy Rusu
URL:https://msbm.mb.ca/event/louis-riel-day/
LOCATION:Le Musée de Saint-Boniface Museum\, 494\, ave Taché\, Winnipeg\, Manitoba\, Canada
CATEGORIES:on site
END:VEVENT
END:VCALENDAR