BEGIN:VCALENDAR
VERSION:2.0
PRODID:-//Le Musee de Saint Boniface Museum - ECPv6.15.20//NONSGML v1.0//EN
CALSCALE:GREGORIAN
METHOD:PUBLISH
X-ORIGINAL-URL:https://msbm.mb.ca
X-WR-CALDESC:Events for Le Musee de Saint Boniface Museum
REFRESH-INTERVAL;VALUE=DURATION:PT1H
X-Robots-Tag:noindex
X-PUBLISHED-TTL:PT1H
BEGIN:VTIMEZONE
TZID:America/Winnipeg
BEGIN:DAYLIGHT
TZOFFSETFROM:-0600
TZOFFSETTO:-0500
TZNAME:CDT
DTSTART:20240310T080000
END:DAYLIGHT
BEGIN:STANDARD
TZOFFSETFROM:-0500
TZOFFSETTO:-0600
TZNAME:CST
DTSTART:20241103T070000
END:STANDARD
BEGIN:DAYLIGHT
TZOFFSETFROM:-0600
TZOFFSETTO:-0500
TZNAME:CDT
DTSTART:20250309T080000
END:DAYLIGHT
BEGIN:STANDARD
TZOFFSETFROM:-0500
TZOFFSETTO:-0600
TZNAME:CST
DTSTART:20251102T070000
END:STANDARD
BEGIN:DAYLIGHT
TZOFFSETFROM:-0600
TZOFFSETTO:-0500
TZNAME:CDT
DTSTART:20260308T080000
END:DAYLIGHT
BEGIN:STANDARD
TZOFFSETFROM:-0500
TZOFFSETTO:-0600
TZNAME:CST
DTSTART:20261101T070000
END:STANDARD
END:VTIMEZONE
BEGIN:VEVENT
DTSTART;TZID=America/Winnipeg:20250705T120000
DTEND;TZID=America/Winnipeg:20250705T150000
DTSTAMP:20260423T031935
CREATED:20250612T210423Z
LAST-MODIFIED:20250612T210423Z
UID:9185-1751716800-1751727600@msbm.mb.ca
SUMMARY:Cercle de perlage / Beading Circle *FREE*
DESCRIPTION:(English message follows)\n\nEntrée gratuite pour perler avec des amis et de nouvelles connaissances. Apportez vos propres projets et venez en discuter avec d’autres\, trouvez l’inspiration et l’amitié au prochain cercle de perlage parmi les artéfacts.\n\n\n \n\n\nDate du prochain cercle de perlage : 5 juillet 2025\, de 12h à 15h\n\n\n \n\n\nSur place au 219 boulevard Provencher\, Winnipeg\n\n\n\nFree drop-in to bead among friends and new acquaintances. Bring your own project and come discuss it with others\, find inspiration and friendship at the next beading circle among the artefacts.\n\n\n \n\n\nNext beading circle date: July 5\, 2025\, from 12 pm to 3 pm\n\n\n \n\n\nLocation: 219 Provencher Boulevard\, Winnipeg
URL:https://msbm.mb.ca/event/cercle-de-perlage-beading-circle-free-23/
LOCATION:Old City Hall of Saint-Boniface\, 219 Provencher Boulevard\, Winnipeg\, Manitoba\, Canada
CATEGORIES:on site
ORGANIZER;CN="Lo%C3%AFk Raymond":MAILTO:experiences@msbm.mb.ca
END:VEVENT
BEGIN:VEVENT
DTSTART;TZID=America/Winnipeg:20250712T120000
DTEND;TZID=America/Winnipeg:20250712T150000
DTSTAMP:20260423T031935
CREATED:20250612T210606Z
LAST-MODIFIED:20250612T210606Z
UID:9187-1752321600-1752332400@msbm.mb.ca
SUMMARY:Cercle de perlage / Beading Circle *FREE*
DESCRIPTION:(English message follows)\n\nEntrée gratuite pour perler avec des amis et de nouvelles connaissances. Apportez vos propres projets et venez en discuter avec d’autres\, trouvez l’inspiration et l’amitié au prochain cercle de perlage parmi les artéfacts.\n\n\n \n\n\nDate du prochain cercle de perlage : 12 juillet 2025\, de 12h à 15h\n\n\n \n\n\nSur place au 219 boulevard Provencher\, Winnipeg\n\n\n\nFree drop-in to bead among friends and new acquaintances. Bring your own project and come discuss it with others\, find inspiration and friendship at the next beading circle among the artefacts.\n\n\n \n\n\nNext beading circle date: July 12\, 2025\, from 12 pm to 3 pm\n\n\n \n\n\nLocation: 219 Provencher Boulevard\, Winnipeg
URL:https://msbm.mb.ca/event/cercle-de-perlage-beading-circle-free-24/
LOCATION:Old City Hall of Saint-Boniface\, 219 Provencher Boulevard\, Winnipeg\, Manitoba\, Canada
CATEGORIES:on site
ORGANIZER;CN="Lo%C3%AFk Raymond":MAILTO:experiences@msbm.mb.ca
END:VEVENT
BEGIN:VEVENT
DTSTART;TZID=America/Winnipeg:20250719T120000
DTEND;TZID=America/Winnipeg:20250719T150000
DTSTAMP:20260423T031935
CREATED:20250612T210655Z
LAST-MODIFIED:20250612T210655Z
UID:9189-1752926400-1752937200@msbm.mb.ca
SUMMARY:Cercle de perlage / Beading Circle *FREE*
DESCRIPTION:(English message follows)\n\nEntrée gratuite pour perler avec des amis et de nouvelles connaissances. Apportez vos propres projets et venez en discuter avec d’autres\, trouvez l’inspiration et l’amitié au prochain cercle de perlage parmi les artéfacts.\n\n\n \n\n\nDate du prochain cercle de perlage : 19 juillet 2025\, de 12h à 15h\n\n\n \n\n\nSur place au 219 boulevard Provencher\, Winnipeg\n\n\n\nFree drop-in to bead among friends and new acquaintances. Bring your own project and come discuss it with others\, find inspiration and friendship at the next beading circle among the artefacts.\n\n\n \n\n\nNext beading circle date: July 19\, 2025\, from 12 pm to 3 pm\n\n\n \n\n\nLocation: 219 Provencher Boulevard\, Winnipeg
URL:https://msbm.mb.ca/event/cercle-de-perlage-beading-circle-free-25/
LOCATION:Old City Hall of Saint-Boniface\, 219 Provencher Boulevard\, Winnipeg\, Manitoba\, Canada
CATEGORIES:on site
ORGANIZER;CN="Lo%C3%AFk Raymond":MAILTO:experiences@msbm.mb.ca
END:VEVENT
BEGIN:VEVENT
DTSTART;TZID=America/Winnipeg:20250726T120000
DTEND;TZID=America/Winnipeg:20250726T150000
DTSTAMP:20260423T031935
CREATED:20250709T190849Z
LAST-MODIFIED:20250709T190849Z
UID:9221-1753531200-1753542000@msbm.mb.ca
SUMMARY:Cercle de perlage / Beading Circle *FREE*
DESCRIPTION:(English message follows)\n\nEntrée gratuite pour perler avec des amis et de nouvelles connaissances. Apportez vos propres projets et venez en discuter avec d’autres\, trouvez l’inspiration et l’amitié au prochain cercle de perlage parmi les artéfacts.\n\n\n \n\n\nDate du prochain cercle de perlage : 26 juillet 2025\, de 12h à 15h\n\n\n \n\n\nSur place au 219 boulevard Provencher\, Winnipeg\n\n\n\nFree drop-in to bead among friends and new acquaintances. Bring your own project and come discuss it with others\, find inspiration and friendship at the next beading circle among the artefacts.\n\n\n \n\n\nNext beading circle date: July 26\, 2025\, from 12 pm to 3 pm\n\n\n \n\n\nLocation: 219 Provencher Boulevard\, Winnipeg
URL:https://msbm.mb.ca/event/cercle-de-perlage-beading-circle-free-26/
LOCATION:Old City Hall of Saint-Boniface\, 219 Provencher Boulevard\, Winnipeg\, Manitoba\, Canada
CATEGORIES:on site
ORGANIZER;CN="Lo%C3%AFk Raymond":MAILTO:experiences@msbm.mb.ca
END:VEVENT
END:VCALENDAR