BEGIN:VCALENDAR
VERSION:2.0
PRODID:-//Le Musee de Saint Boniface Museum - ECPv6.15.20//NONSGML v1.0//EN
CALSCALE:GREGORIAN
METHOD:PUBLISH
X-ORIGINAL-URL:https://msbm.mb.ca
X-WR-CALDESC:Events for Le Musee de Saint Boniface Museum
REFRESH-INTERVAL;VALUE=DURATION:PT1H
X-Robots-Tag:noindex
X-PUBLISHED-TTL:PT1H
BEGIN:VTIMEZONE
TZID:America/Winnipeg
BEGIN:DAYLIGHT
TZOFFSETFROM:-0600
TZOFFSETTO:-0500
TZNAME:CDT
DTSTART:20230312T080000
END:DAYLIGHT
BEGIN:STANDARD
TZOFFSETFROM:-0500
TZOFFSETTO:-0600
TZNAME:CST
DTSTART:20231105T070000
END:STANDARD
BEGIN:DAYLIGHT
TZOFFSETFROM:-0600
TZOFFSETTO:-0500
TZNAME:CDT
DTSTART:20240310T080000
END:DAYLIGHT
BEGIN:STANDARD
TZOFFSETFROM:-0500
TZOFFSETTO:-0600
TZNAME:CST
DTSTART:20241103T070000
END:STANDARD
BEGIN:DAYLIGHT
TZOFFSETFROM:-0600
TZOFFSETTO:-0500
TZNAME:CDT
DTSTART:20250309T080000
END:DAYLIGHT
BEGIN:STANDARD
TZOFFSETFROM:-0500
TZOFFSETTO:-0600
TZNAME:CST
DTSTART:20251102T070000
END:STANDARD
END:VTIMEZONE
BEGIN:VEVENT
DTSTART;TZID=America/Winnipeg:20240606T173000
DTEND;TZID=America/Winnipeg:20240606T193000
DTSTAMP:20260421T232750
CREATED:20240327T182333Z
LAST-MODIFIED:20240327T182412Z
UID:8197-1717695000-1717702200@msbm.mb.ca
SUMMARY:Honouring Our Mothers - Continuation
DESCRIPTION:(Le message en français suit) \nTracy Charette Fehr is hosting a number gatherings of groups of Métis women\, girls and gender diverse/LGBTQ2 together in sewing\, stitching\, beading circles. We will be naming our female ancestors\, sisters\, mothers\, grandmothers and then stitching these names onto textile/fabric/fur/hide pieces. \nSign up here \nMore information here \n\nTracy Charette Fehr organise des rassemblements de groupes de femmes métisses\, de filles et de personnes de genres différents/LGBTQ2 dans des cercles de couture\, de broderie et de perlage. Nous nommerons nos ancêtres féminines\, nos sœurs\, nos mères\, nos grands-mères\, puis nous coudrons ces noms sur des pièces de textile\, de fourrure ou de peau. Les cercles seront seulement offerts en anglais. \nInscrivez-vous ici \nPlus d’informations ici
URL:https://msbm.mb.ca/event/honouring-our-mothers-continuation/2024-06-06/
LOCATION:Le Musée de Saint-Boniface Museum\, 494\, ave Taché\, Winnipeg\, Manitoba\, Canada
CATEGORIES:on site
ORGANIZER;CN="Lo%C3%AFk Raymond":MAILTO:experiences@msbm.mb.ca
END:VEVENT
BEGIN:VEVENT
DTSTART;TZID=America/Winnipeg:20240613T173000
DTEND;TZID=America/Winnipeg:20240613T193000
DTSTAMP:20260421T232750
CREATED:20240327T182333Z
LAST-MODIFIED:20240327T182412Z
UID:8198-1718299800-1718307000@msbm.mb.ca
SUMMARY:Honouring Our Mothers - Continuation
DESCRIPTION:(Le message en français suit) \nTracy Charette Fehr is hosting a number gatherings of groups of Métis women\, girls and gender diverse/LGBTQ2 together in sewing\, stitching\, beading circles. We will be naming our female ancestors\, sisters\, mothers\, grandmothers and then stitching these names onto textile/fabric/fur/hide pieces. \nSign up here \nMore information here \n\nTracy Charette Fehr organise des rassemblements de groupes de femmes métisses\, de filles et de personnes de genres différents/LGBTQ2 dans des cercles de couture\, de broderie et de perlage. Nous nommerons nos ancêtres féminines\, nos sœurs\, nos mères\, nos grands-mères\, puis nous coudrons ces noms sur des pièces de textile\, de fourrure ou de peau. Les cercles seront seulement offerts en anglais. \nInscrivez-vous ici \nPlus d’informations ici
URL:https://msbm.mb.ca/event/honouring-our-mothers-continuation/2024-06-13/
LOCATION:Le Musée de Saint-Boniface Museum\, 494\, ave Taché\, Winnipeg\, Manitoba\, Canada
CATEGORIES:on site
ORGANIZER;CN="Lo%C3%AFk Raymond":MAILTO:experiences@msbm.mb.ca
END:VEVENT
BEGIN:VEVENT
DTSTART;TZID=America/Winnipeg:20240620T173000
DTEND;TZID=America/Winnipeg:20240620T193000
DTSTAMP:20260421T232750
CREATED:20240327T182333Z
LAST-MODIFIED:20240327T182412Z
UID:8199-1718904600-1718911800@msbm.mb.ca
SUMMARY:Honouring Our Mothers - Continuation
DESCRIPTION:(Le message en français suit) \nTracy Charette Fehr is hosting a number gatherings of groups of Métis women\, girls and gender diverse/LGBTQ2 together in sewing\, stitching\, beading circles. We will be naming our female ancestors\, sisters\, mothers\, grandmothers and then stitching these names onto textile/fabric/fur/hide pieces. \nSign up here \nMore information here \n\nTracy Charette Fehr organise des rassemblements de groupes de femmes métisses\, de filles et de personnes de genres différents/LGBTQ2 dans des cercles de couture\, de broderie et de perlage. Nous nommerons nos ancêtres féminines\, nos sœurs\, nos mères\, nos grands-mères\, puis nous coudrons ces noms sur des pièces de textile\, de fourrure ou de peau. Les cercles seront seulement offerts en anglais. \nInscrivez-vous ici \nPlus d’informations ici
URL:https://msbm.mb.ca/event/honouring-our-mothers-continuation/2024-06-20/
LOCATION:Le Musée de Saint-Boniface Museum\, 494\, ave Taché\, Winnipeg\, Manitoba\, Canada
CATEGORIES:on site
ORGANIZER;CN="Lo%C3%AFk Raymond":MAILTO:experiences@msbm.mb.ca
END:VEVENT
END:VCALENDAR