BEGIN:VCALENDAR
VERSION:2.0
PRODID:-//Le Musee de Saint Boniface Museum - ECPv6.15.20//NONSGML v1.0//EN
CALSCALE:GREGORIAN
METHOD:PUBLISH
X-ORIGINAL-URL:https://msbm.mb.ca
X-WR-CALDESC:Events for Le Musee de Saint Boniface Museum
REFRESH-INTERVAL;VALUE=DURATION:PT1H
X-Robots-Tag:noindex
X-PUBLISHED-TTL:PT1H
BEGIN:VTIMEZONE
TZID:America/Winnipeg
BEGIN:DAYLIGHT
TZOFFSETFROM:-0600
TZOFFSETTO:-0500
TZNAME:CDT
DTSTART:20220313T080000
END:DAYLIGHT
BEGIN:STANDARD
TZOFFSETFROM:-0500
TZOFFSETTO:-0600
TZNAME:CST
DTSTART:20221106T070000
END:STANDARD
BEGIN:DAYLIGHT
TZOFFSETFROM:-0600
TZOFFSETTO:-0500
TZNAME:CDT
DTSTART:20230312T080000
END:DAYLIGHT
BEGIN:STANDARD
TZOFFSETFROM:-0500
TZOFFSETTO:-0600
TZNAME:CST
DTSTART:20231105T070000
END:STANDARD
BEGIN:DAYLIGHT
TZOFFSETFROM:-0600
TZOFFSETTO:-0500
TZNAME:CDT
DTSTART:20240310T080000
END:DAYLIGHT
BEGIN:STANDARD
TZOFFSETFROM:-0500
TZOFFSETTO:-0600
TZNAME:CST
DTSTART:20241103T070000
END:STANDARD
END:VTIMEZONE
BEGIN:VEVENT
DTSTART;TZID=America/Winnipeg:20230506T120000
DTEND;TZID=America/Winnipeg:20230506T153000
DTSTAMP:20260423T034023
CREATED:20230124T211002Z
LAST-MODIFIED:20230124T211002Z
UID:6712-1683374400-1683387000@msbm.mb.ca
SUMMARY:Cercle de Perlage *GRATUIT* / *FREE* Beading Circle
DESCRIPTION:(English message follows) \nVenez rejoindre notre cercle de perlage gratuit où vous pouvez discuter et obtenir de l’aide et de l’inspiration auprès d’autres perleurs/perleuses de la communauté. Vous serez entouré d’artefacts artisanaux et transporté dans une autre époque\, ce qui pourrait aviver vous et votre perlage. \nIl s’agit d’un cercle de perlage gratuit\, vous n’avez pas besoin de réserver une place. Il y aura du café et du thé disponible. \nLorsque vous arrivez au musée\, veuillez informer la réception que vous êtes ici pour le cercle de perlage. \nEn ce qui concerne le stationnement\, nous vous recommandons de vous stationner soit sur av. De La Cathédrale ou sur la rue Despins. Si vous avez besoin d’une entrée accessible ou si vous avez des questions\, veuillez contacter Loïk Raymond à experiences@msbm.mb.ca ou 204-237-4500 ext. 420. \n\nCome join our free beading circle where you can chat\, get help and inspiration from other beaders of the community. You will be surrounded by artisan artifacts and transported to a different era\, which may inspirit you and your beadwork. \nIt is a free drop-in beading circle\, you do not need to reserve a spot. There will be coffee and tea available. \nWhen you arrive at the museum\, please inform the front desk that you are here for the beading circle. \nAs for parking\, we recommend you park on either De La Cathédrale Avenue or Rue Despins. If you need an accessible entrance or have any questions\, please contact Loïk Raymond at experiences@msbm.mb.ca or 204-237-4500 ext. 420
URL:https://msbm.mb.ca/event/cercle-de-perlage-gratuit-free-beading-circle-6/
LOCATION:Le Musée de Saint-Boniface Museum\, 494\, ave Taché\, Winnipeg\, Manitoba\, Canada
CATEGORIES:on site
ORGANIZER;CN="Lo%C3%AFk Raymond":MAILTO:experiences@msbm.mb.ca
END:VEVENT
BEGIN:VEVENT
DTSTART;TZID=America/Winnipeg:20230520T120000
DTEND;TZID=America/Winnipeg:20230520T153000
DTSTAMP:20260423T034023
CREATED:20230124T211107Z
LAST-MODIFIED:20230124T211107Z
UID:6714-1684584000-1684596600@msbm.mb.ca
SUMMARY:Cercle de Perlage *GRATUIT* / *FREE* Beading Circle
DESCRIPTION:(English message follows) \nVenez rejoindre notre cercle de perlage gratuit où vous pouvez discuter et obtenir de l’aide et de l’inspiration auprès d’autres perleurs/perleuses de la communauté. Vous serez entouré d’artefacts artisanaux et transporté dans une autre époque\, ce qui pourrait aviver vous et votre perlage. \nIl s’agit d’un cercle de perlage gratuit\, vous n’avez pas besoin de réserver une place. Il y aura du café et du thé disponible. \nLorsque vous arrivez au musée\, veuillez informer la réception que vous êtes ici pour le cercle de perlage. \nEn ce qui concerne le stationnement\, nous vous recommandons de vous stationner soit sur av. De La Cathédrale ou sur la rue Despins. Si vous avez besoin d’une entrée accessible ou si vous avez des questions\, veuillez contacter Loïk Raymond à experiences@msbm.mb.ca ou 204-237-4500 ext. 420. \n\nCome join our free beading circle where you can chat\, get help and inspiration from other beaders of the community. You will be surrounded by artisan artifacts and transported to a different era\, which may inspirit you and your beadwork. \nIt is a free drop-in beading circle\, you do not need to reserve a spot. There will be coffee and tea available. \nWhen you arrive at the museum\, please inform the front desk that you are here for the beading circle. \nAs for parking\, we recommend you park on either De La Cathédrale Avenue or Rue Despins. If you need an accessible entrance or have any questions\, please contact Loïk Raymond at experiences@msbm.mb.ca or 204-237-4500 ext. 420
URL:https://msbm.mb.ca/event/cercle-de-perlage-gratuit-free-beading-circle-7/
LOCATION:Le Musée de Saint-Boniface Museum\, 494\, ave Taché\, Winnipeg\, Manitoba\, Canada
CATEGORIES:on site
ORGANIZER;CN="Lo%C3%AFk Raymond":MAILTO:experiences@msbm.mb.ca
END:VEVENT
END:VCALENDAR