BEGIN:VCALENDAR
VERSION:2.0
PRODID:-//Le Musee de Saint Boniface Museum - ECPv6.15.20//NONSGML v1.0//EN
CALSCALE:GREGORIAN
METHOD:PUBLISH
X-ORIGINAL-URL:https://msbm.mb.ca
X-WR-CALDESC:Events for Le Musee de Saint Boniface Museum
REFRESH-INTERVAL;VALUE=DURATION:PT1H
X-Robots-Tag:noindex
X-PUBLISHED-TTL:PT1H
BEGIN:VTIMEZONE
TZID:America/Winnipeg
BEGIN:DAYLIGHT
TZOFFSETFROM:-0600
TZOFFSETTO:-0500
TZNAME:CDT
DTSTART:20250309T080000
END:DAYLIGHT
BEGIN:STANDARD
TZOFFSETFROM:-0500
TZOFFSETTO:-0600
TZNAME:CST
DTSTART:20251102T070000
END:STANDARD
BEGIN:DAYLIGHT
TZOFFSETFROM:-0600
TZOFFSETTO:-0500
TZNAME:CDT
DTSTART:20260308T080000
END:DAYLIGHT
BEGIN:STANDARD
TZOFFSETFROM:-0500
TZOFFSETTO:-0600
TZNAME:CST
DTSTART:20261101T070000
END:STANDARD
BEGIN:DAYLIGHT
TZOFFSETFROM:-0600
TZOFFSETTO:-0500
TZNAME:CDT
DTSTART:20270314T080000
END:DAYLIGHT
BEGIN:STANDARD
TZOFFSETFROM:-0500
TZOFFSETTO:-0600
TZNAME:CST
DTSTART:20271107T070000
END:STANDARD
END:VTIMEZONE
BEGIN:VEVENT
DTSTART;TZID=America/Winnipeg:20260321T120000
DTEND;TZID=America/Winnipeg:20260321T150000
DTSTAMP:20260422T183135
CREATED:20260218T194606Z
LAST-MODIFIED:20260218T194657Z
UID:9650-1774094400-1774105200@msbm.mb.ca
SUMMARY:Atelier - filage de laine / Spinning Workshop
DESCRIPTION:(English message follows) \n\n\n\nLe samedi\, 21 mars 2026\n12 h à 15 h\n\n\n\n\n75.00 $ + taxes par participant\, payable en ligne\n\n\n67.50 $ + taxes pour les membres du MSBM\, payable en ligne avec coupon\n\n\n\n\n\nVous avez toujours voulu en savoir plus sur la fabrication du fil ? Venez découvrir par vous-même comment filer de la laine sur des fuseaux et essayez le rouet à l'ancienne ! Vous apprendrez également les différents types de bobines\, les techniques et bien d'autres choses encore ! \nVous repartirez avec un kit de matériel de l'atelier.  \nL'atelier se déroule en anglais. \nInscrivez-vous ici ! \n\n\n\n\n\nSaturday\, March 21\, 2026 \nfrom 12 p.m. to 3 p.m. \n\n\n\n\n\n$75.00 + tax per participant\, payable online\n\n\n$67.50 + tax per MSBM member\, payable online with coupon\n\n\n\n\n\nEver wanted to learn more about how yarn was made? Come find out yourself how to spin yarn on spindles and get a shot at trying out the old school spinning wheel! You will also be taught about different types of spindles\, techniques and so much more! \nYou will get to go home with a kit of materials from the workshop. \nWorkshop is delivered in English. \nSign up here!
URL:https://msbm.mb.ca/event/atelier-filage-de-laine-spinning-workshop/
LOCATION:Old City Hall of Saint-Boniface\, 219 Provencher Boulevard\, Winnipeg\, Manitoba\, Canada
CATEGORIES:workshops
ORGANIZER;CN="Lo%C3%AFk Raymond":MAILTO:experiences@msbm.mb.ca
END:VEVENT
END:VCALENDAR