BEGIN:VCALENDAR
VERSION:2.0
PRODID:-//Le Musee de Saint Boniface Museum - ECPv6.15.20//NONSGML v1.0//EN
CALSCALE:GREGORIAN
METHOD:PUBLISH
X-ORIGINAL-URL:https://msbm.mb.ca
X-WR-CALDESC:Events for Le Musee de Saint Boniface Museum
REFRESH-INTERVAL;VALUE=DURATION:PT1H
X-Robots-Tag:noindex
X-PUBLISHED-TTL:PT1H
BEGIN:VTIMEZONE
TZID:America/Winnipeg
BEGIN:DAYLIGHT
TZOFFSETFROM:-0600
TZOFFSETTO:-0500
TZNAME:CDT
DTSTART:20240310T080000
END:DAYLIGHT
BEGIN:STANDARD
TZOFFSETFROM:-0500
TZOFFSETTO:-0600
TZNAME:CST
DTSTART:20241103T070000
END:STANDARD
BEGIN:DAYLIGHT
TZOFFSETFROM:-0600
TZOFFSETTO:-0500
TZNAME:CDT
DTSTART:20250309T080000
END:DAYLIGHT
BEGIN:STANDARD
TZOFFSETFROM:-0500
TZOFFSETTO:-0600
TZNAME:CST
DTSTART:20251102T070000
END:STANDARD
BEGIN:DAYLIGHT
TZOFFSETFROM:-0600
TZOFFSETTO:-0500
TZNAME:CDT
DTSTART:20260308T080000
END:DAYLIGHT
BEGIN:STANDARD
TZOFFSETFROM:-0500
TZOFFSETTO:-0600
TZNAME:CST
DTSTART:20261101T070000
END:STANDARD
END:VTIMEZONE
BEGIN:VEVENT
DTSTART;TZID=America/Winnipeg:20250821T173000
DTEND;TZID=America/Winnipeg:20250821T203000
DTSTAMP:20260423T035915
CREATED:20250528T215024Z
LAST-MODIFIED:20250528T215024Z
UID:9150-1755797400-1755808200@msbm.mb.ca
SUMMARY:Jeudis Franco Thursdays
DESCRIPTION:(English message follows) \nCréer un capteur de rêve \nApprenez à fabriquer un capteur de rêves du début à la fin avec un talentueux artisan Innu. \nOù se dérouleront les activités ? \nMarché d’été de Saint-Boniface — 665\, avenue Tache\, Winnipeg \n17h30 à 20h30 \n\nCreate a dream catcher \nLearn how to make a dream catcher from start to finish with a talented Innu artisan. \nWhere? \nSt. Boniface Summer Market – 665 Tache Ave\, Winnipeg \n5:30 pm to 8:30 pm
URL:https://msbm.mb.ca/event/jeudis-franco-thursdays-3/
LOCATION:Parc Joseph-Royal\, 665 Av. Taché\, Winnipeg\, Winnipeg\, Manitoba\, Canada
CATEGORIES:workshops
END:VEVENT
END:VCALENDAR