BEGIN:VCALENDAR
VERSION:2.0
PRODID:-//Le Musee de Saint Boniface Museum - ECPv6.15.20//NONSGML v1.0//EN
CALSCALE:GREGORIAN
METHOD:PUBLISH
X-WR-CALNAME:Le Musee de Saint Boniface Museum
X-ORIGINAL-URL:https://msbm.mb.ca
X-WR-CALDESC:Events for Le Musee de Saint Boniface Museum
REFRESH-INTERVAL;VALUE=DURATION:PT1H
X-Robots-Tag:noindex
X-PUBLISHED-TTL:PT1H
BEGIN:VTIMEZONE
TZID:America/Winnipeg
BEGIN:DAYLIGHT
TZOFFSETFROM:-0600
TZOFFSETTO:-0500
TZNAME:CDT
DTSTART:20240310T080000
END:DAYLIGHT
BEGIN:STANDARD
TZOFFSETFROM:-0500
TZOFFSETTO:-0600
TZNAME:CST
DTSTART:20241103T070000
END:STANDARD
BEGIN:DAYLIGHT
TZOFFSETFROM:-0600
TZOFFSETTO:-0500
TZNAME:CDT
DTSTART:20250309T080000
END:DAYLIGHT
BEGIN:STANDARD
TZOFFSETFROM:-0500
TZOFFSETTO:-0600
TZNAME:CST
DTSTART:20251102T070000
END:STANDARD
BEGIN:DAYLIGHT
TZOFFSETFROM:-0600
TZOFFSETTO:-0500
TZNAME:CDT
DTSTART:20260308T080000
END:DAYLIGHT
BEGIN:STANDARD
TZOFFSETFROM:-0500
TZOFFSETTO:-0600
TZNAME:CST
DTSTART:20261101T070000
END:STANDARD
END:VTIMEZONE
BEGIN:VEVENT
DTSTART;TZID=America/Winnipeg:20250802T120000
DTEND;TZID=America/Winnipeg:20250802T150000
DTSTAMP:20260423T222435
CREATED:20250709T191007Z
LAST-MODIFIED:20250709T191007Z
UID:9223-1754136000-1754146800@msbm.mb.ca
SUMMARY:Cercle de perlage / Beading Circle *FREE*
DESCRIPTION:(English message follows)\n\nEntrée gratuite pour perler avec des amis et de nouvelles connaissances. Apportez vos propres projets et venez en discuter avec d’autres\, trouvez l’inspiration et l’amitié au prochain cercle de perlage parmi les artéfacts.\n\n\n \n\n\nDate du prochain cercle de perlage : 2 août 2025\, de 12h à 15h\n\n\n \n\n\nSur place au 219 boulevard Provencher\, Winnipeg\n\n\n\nFree drop-in to bead among friends and new acquaintances. Bring your own project and come discuss it with others\, find inspiration and friendship at the next beading circle among the artefacts.\n\n\n \n\n\nNext beading circle date: August 2\, 2025\, from 12 pm to 3 pm\n\n\n \n\n\nLocation: 219 Provencher Boulevard\, Winnipeg
URL:https://msbm.mb.ca/event/cercle-de-perlage-beading-circle-free-27/
LOCATION:Old City Hall of Saint-Boniface\, 219 Provencher Boulevard\, Winnipeg\, Manitoba\, Canada
CATEGORIES:on site
ORGANIZER;CN="Lo%C3%AFk Raymond":MAILTO:experiences@msbm.mb.ca
END:VEVENT
BEGIN:VEVENT
DTSTART;TZID=America/Winnipeg:20250809T120000
DTEND;TZID=America/Winnipeg:20250809T150000
DTSTAMP:20260423T222435
CREATED:20250709T191233Z
LAST-MODIFIED:20250721T182853Z
UID:9225-1754740800-1754751600@msbm.mb.ca
SUMMARY:Cercle de perlage / Beading Circle *FREE*
DESCRIPTION:(English message follows)\n\nEntrée gratuite pour perler avec des amis et de nouvelles connaissances. Apportez vos propres projets et venez en discuter avec d’autres\, trouvez l’inspiration et l’amitié au prochain cercle de perlage parmi les artéfacts.\n\n\n \n\n\nDate du prochain cercle de perlage : 9 août 2025\, de 12h à 15h\n\n\n \n\n\nSur place au 219 boulevard Provencher\, Winnipeg\n\n\n\nFree drop-in to bead among friends and new acquaintances. Bring your own project and come discuss it with others\, find inspiration and friendship at the next beading circle among the artefacts.\n\n\n \n\n\nNext beading circle date: August 9\, 2025\, from 12 pm to 3 pm\n\n\n \n\n\nLocation: 219 Provencher Boulevard\, Winnipeg
URL:https://msbm.mb.ca/event/cercle-de-perlage-beading-circle-free-28/
LOCATION:Old City Hall of Saint-Boniface\, 219 Provencher Boulevard\, Winnipeg\, Manitoba\, Canada
CATEGORIES:on site
ORGANIZER;CN="Lo%C3%AFk Raymond":MAILTO:experiences@msbm.mb.ca
END:VEVENT
BEGIN:VEVENT
DTSTART;TZID=America/Winnipeg:20250816T120000
DTEND;TZID=America/Winnipeg:20250816T150000
DTSTAMP:20260423T222435
CREATED:20250709T191338Z
LAST-MODIFIED:20250709T191446Z
UID:9227-1755345600-1755356400@msbm.mb.ca
SUMMARY:Cercle de perlage / Beading Circle *FREE*
DESCRIPTION:(English message follows)\n\nEntrée gratuite pour perler avec des amis et de nouvelles connaissances. Apportez vos propres projets et venez en discuter avec d’autres\, trouvez l’inspiration et l’amitié au prochain cercle de perlage parmi les artéfacts.\n\n\n \n\n\nDate du prochain cercle de perlage : 16 août 2025\, de 12h à 15h\n\n\n \n\n\nSur place au 219 boulevard Provencher\, Winnipeg\n\n\n\nFree drop-in to bead among friends and new acquaintances. Bring your own project and come discuss it with others\, find inspiration and friendship at the next beading circle among the artefacts.\n\n\n \n\n\nNext beading circle date: August 16\, 2025\, from 12 pm to 3 pm\n\n\n \n\n\nLocation: 219 Provencher Boulevard\, Winnipeg
URL:https://msbm.mb.ca/event/cercle-de-perlage-beading-circle-free-29/
LOCATION:Old City Hall of Saint-Boniface\, 219 Provencher Boulevard\, Winnipeg\, Manitoba\, Canada
CATEGORIES:on site
ORGANIZER;CN="Lo%C3%AFk Raymond":MAILTO:experiences@msbm.mb.ca
END:VEVENT
BEGIN:VEVENT
DTSTART;TZID=America/Winnipeg:20250823T120000
DTEND;TZID=America/Winnipeg:20250823T150000
DTSTAMP:20260423T222435
CREATED:20250709T191535Z
LAST-MODIFIED:20250709T191535Z
UID:9229-1755950400-1755961200@msbm.mb.ca
SUMMARY:Cercle de perlage / Beading Circle *FREE*
DESCRIPTION:(English message follows)\n\nEntrée gratuite pour perler avec des amis et de nouvelles connaissances. Apportez vos propres projets et venez en discuter avec d’autres\, trouvez l’inspiration et l’amitié au prochain cercle de perlage parmi les artéfacts.\n\n\n \n\n\nDate du prochain cercle de perlage : 23 août 2025\, de 12h à 15h\n\n\n \n\n\nSur place au 219 boulevard Provencher\, Winnipeg\n\n\n\nFree drop-in to bead among friends and new acquaintances. Bring your own project and come discuss it with others\, find inspiration and friendship at the next beading circle among the artefacts.\n\n\n \n\n\nNext beading circle date: August 23\, 2025\, from 12 pm to 3 pm\n\n\n \n\n\nLocation: 219 Provencher Boulevard\, Winnipeg
URL:https://msbm.mb.ca/event/cercle-de-perlage-beading-circle-free-30/
LOCATION:Old City Hall of Saint-Boniface\, 219 Provencher Boulevard\, Winnipeg\, Manitoba\, Canada
CATEGORIES:on site
ORGANIZER;CN="Lo%C3%AFk Raymond":MAILTO:experiences@msbm.mb.ca
END:VEVENT
BEGIN:VEVENT
DTSTART;TZID=America/Winnipeg:20250828T160000
DTEND;TZID=America/Winnipeg:20250828T190000
DTSTAMP:20260423T222435
CREATED:20250513T204921Z
LAST-MODIFIED:20250716T201151Z
UID:9129-1756396800-1756407600@msbm.mb.ca
SUMMARY:Jeudis Franco Thursdays
DESCRIPTION:(English message follows) \nOù se dérouleront les activités ? \nAncien hôtel de ville de Saint-Boniface – 219\, boulevard Provencher\, Winnipeg \nÀ quelle heure ? \n16h à 19h (Le musée ferme à 20h) \nCélébrez la fin de l’été avec nous lors de notre BBQ annuel ! Profitez de délicieux hot dogs\, chips et boissons disponibles à l’achat \nCombo hot dog (hot dog\, chips et boisson) : 6.00 $ \nHot dog seul : 2.00 $ \nDe 16 h à 19 h\, les Forces de Lord Selkirk feront revivre l’histoire avec des démonstrations authentiques de la guerre de 1812\, incluant des exercices de mousqueterie\, des tirs de mousquet et une table d’expositions interactives. \nLe musée restera ouvert jusqu’à 20 h ! \nAucune réservation requise — venez simplement profiter d’une soirée amusante et familiale avec de la nourriture\, de l’histoire\, de la musique et des activités ! \nEntrée : Gratuit (nourriture disponible à l’achat)Accessibilité : Le jardin de sculptures et la zone de l’évènement sont accessibles en fauteuil roulant.Stationnement : Le stationnement dans la rue est disponible dans le secteur. \n✨Un grand merci à La Maison des artistes visuels francophones de nous avoir généreusement permis d’utiliser leur magnifique jardin de sculptures pour cet évènement.✨ \n------------- \nWhere? \n Sculpture Garden\, next to 219 Provencher Blvd\, Winnipeg \nWhen? \n4:00 PM – 7:00 PM (Museum closes at 8:00 PM) \nCelebrate the end of summer with us at our annual BBQ event! Enjoy delicious hot dogs\, chips\, and drinks available for purchase: \nHot dog combo (hot dog\, chips\, and drink): $6.00 \nHot dog only: $2.00 \nFrom 4:00 PM to 7:00 PM\, The Forces of Lord Selkirk will bring history to life with authentic War of 1812 demonstrations including musket drills\, firing displays\, and a show-and-tell table. \nNo RSVP is required — just come and enjoy a fun\, family-friendly evening with food\, history\, music\, and activities! \nAdmission: Free to attend (food available for purchase)Accessibility: The sculpture garden and event area are wheelchair accessible.Parking: Street parking is available in the area. \n✨Special thanks to La Maison des artistes visuels francophones for generously allowing us to use their beautiful sculpture garden for this event.✨
URL:https://msbm.mb.ca/event/jeudis-franco-thursdays/2025-08-28/
LOCATION:Old City Hall of Saint-Boniface\, 219 Provencher Boulevard\, Winnipeg\, Manitoba\, Canada
CATEGORIES:on site
ORGANIZER;CN="Lo%C3%AFk Raymond":MAILTO:experiences@msbm.mb.ca
END:VEVENT
BEGIN:VEVENT
DTSTART;TZID=America/Winnipeg:20250830T120000
DTEND;TZID=America/Winnipeg:20250830T150000
DTSTAMP:20260423T222435
CREATED:20250709T191630Z
LAST-MODIFIED:20250709T191630Z
UID:9231-1756555200-1756566000@msbm.mb.ca
SUMMARY:Cercle de perlage / Beading Circle *FREE*
DESCRIPTION:(English message follows)\n\nEntrée gratuite pour perler avec des amis et de nouvelles connaissances. Apportez vos propres projets et venez en discuter avec d’autres\, trouvez l’inspiration et l’amitié au prochain cercle de perlage parmi les artéfacts.\n\n\n \n\n\nDate du prochain cercle de perlage : 30 août 2025\, de 12h à 15h\n\n\n \n\n\nSur place au 219 boulevard Provencher\, Winnipeg\n\n\n\nFree drop-in to bead among friends and new acquaintances. Bring your own project and come discuss it with others\, find inspiration and friendship at the next beading circle among the artefacts.\n\n\n \n\n\nNext beading circle date: August 30\, 2025\, from 12 pm to 3 pm\n\n\n \n\n\nLocation: 219 Provencher Boulevard\, Winnipeg
URL:https://msbm.mb.ca/event/cercle-de-perlage-beading-circle-free-31/
LOCATION:Old City Hall of Saint-Boniface\, 219 Provencher Boulevard\, Winnipeg\, Manitoba\, Canada
CATEGORIES:on site
ORGANIZER;CN="Lo%C3%AFk Raymond":MAILTO:experiences@msbm.mb.ca
END:VEVENT
END:VCALENDAR