BEGIN:VCALENDAR
VERSION:2.0
PRODID:-//Le Musee de Saint Boniface Museum - ECPv6.15.20//NONSGML v1.0//EN
CALSCALE:GREGORIAN
METHOD:PUBLISH
X-WR-CALNAME:Le Musee de Saint Boniface Museum
X-ORIGINAL-URL:https://msbm.mb.ca
X-WR-CALDESC:Events for Le Musee de Saint Boniface Museum
REFRESH-INTERVAL;VALUE=DURATION:PT1H
X-Robots-Tag:noindex
X-PUBLISHED-TTL:PT1H
BEGIN:VTIMEZONE
TZID:America/Winnipeg
BEGIN:DAYLIGHT
TZOFFSETFROM:-0600
TZOFFSETTO:-0500
TZNAME:CDT
DTSTART:20210314T080000
END:DAYLIGHT
BEGIN:STANDARD
TZOFFSETFROM:-0500
TZOFFSETTO:-0600
TZNAME:CST
DTSTART:20211107T070000
END:STANDARD
BEGIN:DAYLIGHT
TZOFFSETFROM:-0600
TZOFFSETTO:-0500
TZNAME:CDT
DTSTART:20220313T080000
END:DAYLIGHT
BEGIN:STANDARD
TZOFFSETFROM:-0500
TZOFFSETTO:-0600
TZNAME:CST
DTSTART:20221106T070000
END:STANDARD
BEGIN:DAYLIGHT
TZOFFSETFROM:-0600
TZOFFSETTO:-0500
TZNAME:CDT
DTSTART:20230312T080000
END:DAYLIGHT
BEGIN:STANDARD
TZOFFSETFROM:-0500
TZOFFSETTO:-0600
TZNAME:CST
DTSTART:20231105T070000
END:STANDARD
BEGIN:DAYLIGHT
TZOFFSETFROM:-0600
TZOFFSETTO:-0500
TZNAME:CDT
DTSTART:20240310T080000
END:DAYLIGHT
BEGIN:STANDARD
TZOFFSETFROM:-0500
TZOFFSETTO:-0600
TZNAME:CST
DTSTART:20241103T070000
END:STANDARD
END:VTIMEZONE
BEGIN:VEVENT
DTSTART;TZID=America/Winnipeg:20230727T170000
DTEND;TZID=America/Winnipeg:20230727T193000
DTSTAMP:20260423T100950
CREATED:20230706T163526Z
LAST-MODIFIED:20230706T163526Z
UID:7399-1690477200-1690486200@msbm.mb.ca
SUMMARY:Activité pour Jeudi de la Francophonie Activity
DESCRIPTION:(English message follows) \nVous pensez que la lessive est difficile aujourd’hui ? Venez essayer de laver des vêtements comme au bon vieux temps à l’aide d’un bassin et d’une planche à laver. Vous pourrez ensuite entrer dans le musée et vous essayer à l’écriture traditionnelle à la plume d’oie ! Vivez l’expérience de l’histoire vous-même. \nEntrée gratuite tous les jeudis entre 17 h et 20 h. \nSi vous avez des questions\, contactez Loïk à experiences@msbm.mb.ca ou au 204-237-4500\, poste 420. \n✒️ \nYou think laundry today is difficult? Come try and wash clothes like the good old days using a basin with a washboard. You can then pop inside the museum and give it your best shot at traditional quill pen writing! Come and experience history first hand. \nFree admission every Thursday between 5 p.m. and 8 p.m. \nIf you have any questions\, contact Loïk at experiences@msbm.mb.ca or 204-237-4500 ext. 420.
URL:https://msbm.mb.ca/event/activite-pour-jeudi-de-la-francophonie-activity-3/
LOCATION:Le Musée de Saint-Boniface Museum\, 494\, ave Taché\, Winnipeg\, Manitoba\, Canada
CATEGORIES:on site,workshops
ORGANIZER;CN="Lo%C3%AFk Raymond":MAILTO:experiences@msbm.mb.ca
END:VEVENT
BEGIN:VEVENT
DTSTART;TZID=America/Winnipeg:20230720T170000
DTEND;TZID=America/Winnipeg:20230720T193000
DTSTAMP:20260423T100950
CREATED:20230712T184529Z
LAST-MODIFIED:20230712T184539Z
UID:7434-1689872400-1689881400@msbm.mb.ca
SUMMARY:Activité pour Jeudi de la Francophonie Activity
DESCRIPTION:(English message follows) \nNous organisons deux activités intérieures distinctes cette semaine. Tu peux venir colorier des dessins canadiens-français et ensuite jouer au jeu des empreintes et de fourrure ! Venez découvrir ce que vous savez ! \nEntrée gratuite tous les jeudis entre 17 h et 20 h. \n\nWe are hosting two separate indoor activities this week. You can come colour French-Canadian drawings & then come play the fur and paw print game! Come find out how much you know! \nFree admission every Thursday between 5 p.m. and 8 p.m.
URL:https://msbm.mb.ca/event/activite-pour-jeudi-de-la-francophonie-activity-7/
LOCATION:Le Musée de Saint-Boniface Museum\, 494\, ave Taché\, Winnipeg\, Manitoba\, Canada
CATEGORIES:on site
ORGANIZER;CN="Lo%C3%AFk Raymond":MAILTO:experiences@msbm.mb.ca
END:VEVENT
BEGIN:VEVENT
DTSTART;TZID=America/Winnipeg:20230713T170000
DTEND;TZID=America/Winnipeg:20230713T193000
DTSTAMP:20260423T100950
CREATED:20230706T162745Z
LAST-MODIFIED:20230706T162745Z
UID:7397-1689267600-1689276600@msbm.mb.ca
SUMMARY:Activité pour Jeudi de la Francophonie Activity
DESCRIPTION:(English message follows) \nVenez essayer de faire du beurre. Il s'agit d'une expérience unique au cours de laquelle vous apprendrez à faire du beurre à la main et le ramènerez chez vous ! (veuillez apporter un contenant pour emporter le beurre à la maison) \nEntrée gratuite tous les jeudis entre 17 h et 20 h. \nSi vous avez des questions\, contactez Loïk à experiences@msbm.mb.ca ou au 204-237-4500\, poste 420. \n🧈 \nCome try butter making. This is a unique experience where you get to learn how to make butter and then bring it home with you! (please bring a container to bring the butter back home) \nFree admission every Thursday between 5 p.m. and 8 p.m. \nIf you have any questions\, contact Loïk at experiences@msbm.mb.ca or 204-237-4500 ext. 420. \n 
URL:https://msbm.mb.ca/event/activite-pour-jeudi-de-la-francophonie-activity-2/
LOCATION:Le Musée de Saint-Boniface Museum\, 494\, ave Taché\, Winnipeg\, Manitoba\, Canada
CATEGORIES:on site,workshops
ORGANIZER;CN="Lo%C3%AFk Raymond":MAILTO:experiences@msbm.mb.ca
END:VEVENT
BEGIN:VEVENT
DTSTART;TZID=America/Winnipeg:20230706T170000
DTEND;TZID=America/Winnipeg:20230706T200000
DTSTAMP:20260423T100950
CREATED:20230706T161246Z
LAST-MODIFIED:20230706T161311Z
UID:7394-1688662800-1688673600@msbm.mb.ca
SUMMARY:Activité pour Jeudi de la Francophonie Activity
DESCRIPTION:(English Message Follows) \nCe jeudi\, nous présentons des sports historiques ! Avez-vous déjà essayé le fer à cheval ? Le croquet ? Ce jeudi\, c'est le moment de le faire ! \nEntrée gratuite tous les jeudis entre 17 h et 20 h. \nConsultez nos médias sociaux tous les mercredis pour savoir quelle activité nous proposons le jeudi soir suivant ! \nSi vous avez des questions\, communiquez avec Loïk à experiences@msbm.mb.ca ou au 204-237-4500\, poste 420. \nÀ bientôt à Saint-Boniface ! \n🥏 \nThis Thursday\, we're hosting historic sports! Have you ever tried horseshoe? Croquet? This Thursday is your chance! \nFree admission every Thursday between 5 p.m. and 8 p.m. \nCheck our social media every Wednesday to find out what activity we're offering for the following Thursday evening! \nIf you have any questions\, contact Loïk at experiences@msbm.mb.ca or 204-237-4500 ext. 420. \nSee you soon in Saint-Boniface!
URL:https://msbm.mb.ca/event/activite-pour-jeudi-de-la-francophonie-activity/
LOCATION:Le Musée de Saint-Boniface Museum\, 494\, ave Taché\, Winnipeg\, Manitoba\, Canada
CATEGORIES:on site
ORGANIZER;CN="Lo%C3%AFk Raymond":MAILTO:experiences@msbm.mb.ca
END:VEVENT
BEGIN:VEVENT
DTSTART;TZID=America/Winnipeg:20230615T170000
DTEND;TZID=America/Winnipeg:20230615T200000
DTSTAMP:20260423T100950
CREATED:20230607T205935Z
LAST-MODIFIED:20230607T210017Z
UID:7100-1686848400-1686859200@msbm.mb.ca
SUMMARY:Jeudi de la Francophonie
DESCRIPTION:(English message follows) \nCe jeudi\, nous organisons deux activités ! \nVenez jouer à des jeux divers : Casse-tête pièce par pièce\, croquet et fer à cheval ! \nNous allons aussi avoir des dessins de symboles\ncanadiens-français pour le coloriage à l’intérieur du\nmusée ! \nEntrée gratuite tous les jeudis entre 17 h et 20 h. \n🌳 \nThis Thursday\, we’re offering two activities! \nCome and play a variety of games\, including piece-by-piece puzzles\, croquet and horseshoes! \nWe’ll also have drawings of French-Canadian symbols\nfor you to colour inside the museum! \nFree admission every Thursday between 5 p.m. and 8 p.m.
URL:https://msbm.mb.ca/event/jeudi-de-la-francophonie-2/
LOCATION:Le Musée de Saint-Boniface Museum\, 494\, ave Taché\, Winnipeg\, Manitoba\, Canada
ORGANIZER;CN="Lo%C3%AFk Raymond":MAILTO:experiences@msbm.mb.ca
END:VEVENT
BEGIN:VEVENT
DTSTART;TZID=America/Winnipeg:20230610T120000
DTEND;TZID=America/Winnipeg:20230610T153000
DTSTAMP:20260423T100950
CREATED:20230124T211205Z
LAST-MODIFIED:20230124T211205Z
UID:6716-1686398400-1686411000@msbm.mb.ca
SUMMARY:Cercle de Perlage *GRATUIT* / *FREE* Beading Circle
DESCRIPTION:(English message follows) \nVenez rejoindre notre cercle de perlage gratuit où vous pouvez discuter et obtenir de l’aide et de l’inspiration auprès d’autres perleurs/perleuses de la communauté. Vous serez entouré d’artefacts artisanaux et transporté dans une autre époque\, ce qui pourrait aviver vous et votre perlage. \nIl s’agit d’un cercle de perlage gratuit\, vous n’avez pas besoin de réserver une place. Il y aura du café et du thé disponible. \nLorsque vous arrivez au musée\, veuillez informer la réception que vous êtes ici pour le cercle de perlage. \nEn ce qui concerne le stationnement\, nous vous recommandons de vous stationner soit sur av. De La Cathédrale ou sur la rue Despins. Si vous avez besoin d’une entrée accessible ou si vous avez des questions\, veuillez contacter Loïk Raymond à experiences@msbm.mb.ca ou 204-237-4500 ext. 420. \n\nCome join our free beading circle where you can chat\, get help and inspiration from other beaders of the community. You will be surrounded by artisan artifacts and transported to a different era\, which may inspirit you and your beadwork. \nIt is a free drop-in beading circle\, you do not need to reserve a spot. There will be coffee and tea available. \nWhen you arrive at the museum\, please inform the front desk that you are here for the beading circle. \nAs for parking\, we recommend you park on either De La Cathédrale Avenue or Rue Despins. If you need an accessible entrance or have any questions\, please contact Loïk Raymond at experiences@msbm.mb.ca or 204-237-4500 ext. 420
URL:https://msbm.mb.ca/event/cercle-de-perlage-gratuit-free-beading-circle-8/
LOCATION:Le Musée de Saint-Boniface Museum\, 494\, ave Taché\, Winnipeg\, Manitoba\, Canada
CATEGORIES:on site
ORGANIZER;CN="Lo%C3%AFk Raymond":MAILTO:experiences@msbm.mb.ca
END:VEVENT
BEGIN:VEVENT
DTSTART;TZID=America/Winnipeg:20230608T170000
DTEND;TZID=America/Winnipeg:20230608T200000
DTSTAMP:20260423T100950
CREATED:20230607T205330Z
LAST-MODIFIED:20230607T205438Z
UID:7096-1686243600-1686254400@msbm.mb.ca
SUMMARY:Jeudi de la Francophonie
DESCRIPTION:(English message follows) \nCe jeudi\, nous organisons deux activités ! \nVenez apprendre comment jouer à Jambette\, un jeu\nque les voyageurs aimaient bien ! Le jeu est encore\npopulaire dans les communautés\ncanadiennes-françaises. \nNous allons aussi avoir des dessins de symboles\ncanadiens-français pour le coloriage à l’intérieur du\nmusée ! \nEntrée gratuite tous les jeudis entre 17 h et 20 h. \n🌳 \nThis Thursday\, we're offering two activities! \nCome and learn how to play ‘Jambette’(leg wrestling)\, a\ngame that the voyageurs loved! The game is still\npopular in French-Canadian culture. \nWe’ll also have drawings of French-Canadian symbols\nfor you to colour inside the museum! \nFree admission every Thursday between 5 p.m. and 8 p.m.
URL:https://msbm.mb.ca/event/jeudi-de-la-francophonie/
LOCATION:Le Musée de Saint-Boniface Museum\, 494\, ave Taché\, Winnipeg\, Manitoba\, Canada
CATEGORIES:on site
ORGANIZER;CN="Lo%C3%AFk Raymond":MAILTO:experiences@msbm.mb.ca
END:VEVENT
BEGIN:VEVENT
DTSTART;TZID=America/Winnipeg:20230527T100000
DTEND;TZID=America/Winnipeg:20230527T160000
DTSTAMP:20260423T100950
CREATED:20230424T175349Z
LAST-MODIFIED:20230518T164557Z
UID:7020-1685181600-1685203200@msbm.mb.ca
SUMMARY:Doors Open Winnipeg
DESCRIPTION:Une activité sera organisée avec notre équipe des Collections. \nVous découvrirez comment les objets sont manipulés et par quel processus ils sont acquis par le musée de Saint-Boniface. Vous aurez l'occasion d'essayer la manière dont nous cataloguons un artefact. \nHeures des activités : \n\n12 h 00\n13 h 45\n15 h 00\n\n\nThere will be an activity with our Collections team. \nYou will find out about how artefacts are handled\, and the process artefacts go through to be taken in by the Saint-Boniface Museum. You will have a chance at trying out how we catalogue an artefact. \nStart times: \n\n12 p.m.\n1:45 p.m.\n3 p.m.\n\n 
URL:https://msbm.mb.ca/event/doors-open-winnipeg-2/
LOCATION:Le Musée de Saint-Boniface Museum\, 494\, ave Taché\, Winnipeg\, Manitoba\, Canada
CATEGORIES:on site
ORGANIZER;CN="Lo%C3%AFk Raymond":MAILTO:experiences@msbm.mb.ca
END:VEVENT
BEGIN:VEVENT
DTSTART;TZID=America/Winnipeg:20230415T100000
DTEND;TZID=America/Winnipeg:20230415T160000
DTSTAMP:20260423T100950
CREATED:20230203T163846Z
LAST-MODIFIED:20230412T220103Z
UID:6729-1681552800-1681574400@msbm.mb.ca
SUMMARY:Marché de Printemps // Spring Market
DESCRIPTION:(English message follows) \nLe samedi 15 avril\, de 10 h à 16 h\, nous organisons notre tout premier marché de printemps ! Voici ce que vous pouvez vous attendre à trouver au musée ce jour-là : \n\nEntrée gratuite au musée\nMarché artisanal avec des artistes locaux\nTournée du musée en français à 14h30 à 15h30\nTour of the museum in English from 1 p.m. to 2 p.m.\nBricolages et activités pour enfants\nPrix ​​de présence\nVentes à la Belle Boutique Blanche\n\nCeci n'est qu'un aperçu\, nous publierons des mises à jour sur le calendrier ici et sur nos réseaux sociaux ! \n\nOn Saturday\, April 15th\, from 10 a.m. to 4 p.m. we are holding our first ever Spring Market! The following is what you can expect to find at the museum that day: \n\nFree admission to the museum\nArtisan Market with local artists\nTour of the museum in English from 1 p.m. to 2 p.m.\nTournée du musée en français à 14h30 à 15h30\nKids craft & activity\nDoor prize\nGift shop sales\n\nThis is just an overview\, we will be posting updates on the schedule both here and on our social media! \n 
URL:https://msbm.mb.ca/event/marche-du-printemps-spring-market/
LOCATION:Le Musée de Saint-Boniface Museum\, 494\, ave Taché\, Winnipeg\, Manitoba\, Canada
CATEGORIES:on site
ORGANIZER;CN="Lo%C3%AFk Raymond":MAILTO:experiences@msbm.mb.ca
END:VEVENT
BEGIN:VEVENT
DTSTART;TZID=America/Winnipeg:20230318T120000
DTEND;TZID=America/Winnipeg:20230318T153000
DTSTAMP:20260423T100950
CREATED:20230124T210644Z
LAST-MODIFIED:20230124T210644Z
UID:6706-1679140800-1679153400@msbm.mb.ca
SUMMARY:Cercle de Perlage *GRATUIT* / *FREE* Beading Circle
DESCRIPTION:(English message follows) \nVenez rejoindre notre cercle de perlage gratuit où vous pouvez discuter et obtenir de l’aide et de l’inspiration auprès d’autres perleurs/perleuses de la communauté. Vous serez entouré d’artefacts artisanaux et transporté dans une autre époque\, ce qui pourrait aviver vous et votre perlage. \nIl s’agit d’un cercle de perlage gratuit\, vous n’avez pas besoin de réserver une place. Il y aura du café et du thé disponible. \nLorsque vous arrivez au musée\, veuillez informer la réception que vous êtes ici pour le cercle de perlage. \nEn ce qui concerne le stationnement\, nous vous recommandons de vous stationner soit sur av. De La Cathédrale ou sur la rue Despins. Si vous avez besoin d’une entrée accessible ou si vous avez des questions\, veuillez contacter Loïk Raymond à experiences@msbm.mb.ca ou 204-237-4500 ext. 420. \n\nCome join our free beading circle where you can chat\, get help and inspiration from other beaders of the community. You will be surrounded by artisan artifacts and transported to a different era\, which may inspirit you and your beadwork. \nIt is a free drop-in beading circle\, you do not need to reserve a spot. There will be coffee and tea available. \nWhen you arrive at the museum\, please inform the front desk that you are here for the beading circle. \nAs for parking\, we recommend you park on either De La Cathédrale Avenue or Rue Despins. If you need an accessible entrance or have any questions\, please contact Loïk Raymond at experiences@msbm.mb.ca or 204-237-4500 ext. 420
URL:https://msbm.mb.ca/event/cercle-de-perlage-gratuit-free-beading-circle-3/
LOCATION:Le Musée de Saint-Boniface Museum\, 494\, ave Taché\, Winnipeg\, Manitoba\, Canada
CATEGORIES:on site
ORGANIZER;CN="Lo%C3%AFk Raymond":MAILTO:experiences@msbm.mb.ca
END:VEVENT
BEGIN:VEVENT
DTSTART;TZID=America/Winnipeg:20230304T120000
DTEND;TZID=America/Winnipeg:20230304T153000
DTSTAMP:20260423T100950
CREATED:20230124T210544Z
LAST-MODIFIED:20230124T210544Z
UID:6704-1677931200-1677943800@msbm.mb.ca
SUMMARY:Cercle de Perlage *GRATUIT* / *FREE* Beading Circle
DESCRIPTION:(English message follows) \nVenez rejoindre notre cercle de perlage gratuit où vous pouvez discuter et obtenir de l’aide et de l’inspiration auprès d’autres perleurs/perleuses de la communauté. Vous serez entouré d’artefacts artisanaux et transporté dans une autre époque\, ce qui pourrait aviver vous et votre perlage. \nIl s’agit d’un cercle de perlage gratuit\, vous n’avez pas besoin de réserver une place. Il y aura du café et du thé disponible. \nLorsque vous arrivez au musée\, veuillez informer la réception que vous êtes ici pour le cercle de perlage. \nEn ce qui concerne le stationnement\, nous vous recommandons de vous stationner soit sur av. De La Cathédrale ou sur la rue Despins. Si vous avez besoin d’une entrée accessible ou si vous avez des questions\, veuillez contacter Loïk Raymond à experiences@msbm.mb.ca ou 204-237-4500 ext. 420. \n\nCome join our free beading circle where you can chat\, get help and inspiration from other beaders of the community. You will be surrounded by artisan artifacts and transported to a different era\, which may inspirit you and your beadwork. \nIt is a free drop-in beading circle\, you do not need to reserve a spot. There will be coffee and tea available. \nWhen you arrive at the museum\, please inform the front desk that you are here for the beading circle. \nAs for parking\, we recommend you park on either De La Cathédrale Avenue or Rue Despins. If you need an accessible entrance or have any questions\, please contact Loïk Raymond at experiences@msbm.mb.ca or 204-237-4500 ext. 420
URL:https://msbm.mb.ca/event/cercle-de-perlage-gratuit-free-beading-circle-2/
LOCATION:Le Musée de Saint-Boniface Museum\, 494\, ave Taché\, Winnipeg\, Manitoba\, Canada
CATEGORIES:on site
ORGANIZER;CN="Lo%C3%AFk Raymond":MAILTO:experiences@msbm.mb.ca
END:VEVENT
BEGIN:VEVENT
DTSTART;TZID=America/Winnipeg:20230218T120000
DTEND;TZID=America/Winnipeg:20230218T153000
DTSTAMP:20260423T100950
CREATED:20230124T205754Z
LAST-MODIFIED:20230124T210236Z
UID:6700-1676721600-1676734200@msbm.mb.ca
SUMMARY:Cercle de Perlage *GRATUIT* / *FREE* Beading Circle
DESCRIPTION:(English message follows) \nVenez rejoindre notre cercle de perlage gratuit où vous pouvez discuter et obtenir de l’aide et de l’inspiration auprès d’autres perleurs/perleuses de la communauté. Vous serez entouré d’artefacts artisanaux et transporté dans une autre époque\, ce qui pourrait aviver vous et votre perlage. \nIl s’agit d’un cercle de perlage gratuit\, vous n’avez pas besoin de réserver une place. Il y aura du café et du thé disponible. \nLorsque vous arrivez au musée\, veuillez informer la réception que vous êtes ici pour le cercle de perlage. \nEn ce qui concerne le stationnement\, nous vous recommandons de vous stationner soit sur av. De La Cathédrale ou sur la rue Despins. Si vous avez besoin d’une entrée accessible ou si vous avez des questions\, veuillez contacter Loïk Raymond à experiences@msbm.mb.ca ou 204-237-4500 ext. 420. \n\nCome join our free beading circle where you can chat\, get help and inspiration from other beaders of the community. You will be surrounded by artisan artifacts and transported to a different era\, which may inspirit you and your beadwork. \nIt is a free drop-in beading circle\, you do not need to reserve a spot. There will be coffee and tea available. \nWhen you arrive at the museum\, please inform the front desk that you are here for the beading circle. \nAs for parking\, we recommend you park on either De La Cathédrale Avenue or Rue Despins. If you need an accessible entrance or have any questions\, please contact Loïk Raymond at experiences@msbm.mb.ca or 204-237-4500 ext. 420
URL:https://msbm.mb.ca/event/cercle-de-perlage-gratuit-free-beading-circle/
LOCATION:Le Musée de Saint-Boniface Museum\, 494\, ave Taché\, Winnipeg\, Manitoba\, Canada
CATEGORIES:on site
ORGANIZER;CN="Lo%C3%AFk Raymond":MAILTO:experiences@msbm.mb.ca
END:VEVENT
BEGIN:VEVENT
DTSTART;TZID=America/Winnipeg:20221126T110000
DTEND;TZID=America/Winnipeg:20221126T180000
DTSTAMP:20260423T100950
CREATED:20220922T203756Z
LAST-MODIFIED:20220927T195643Z
UID:6273-1669460400-1669485600@msbm.mb.ca
SUMMARY:Noël à Saint-Boniface
DESCRIPTION:*English Message Follows* \nNoël au Musée de Saint-Boniface est de retour en force! Le 26 novembre de 11h à 18h venez profiter d'une multitude d'activités festives différentes. Du feu de joie au chocolat chaud avec des desserts et une station de bricolage pour les enfants. Nous tiendrons également notre marché artisanal annuel\, ainsi que des ventes dans notre magnifique boutique La Belle Boutique Blanche! Avant de partir\, n'oubliez pas de vous faire prendre en photo avec le Père Noël* ! \nSi vous avez des questions\, contactez-nous à experiences@msbm.mb.ca \n*Est sujette à modification sans préavis \n\nChristmas at the Musée de Saint-Boniface Museum is back in full force! On November 26th from 11 a.m. to 6 p.m. come enjoy a numerous amount of different festive activities. From the fire of joy\, to hot chocolate with desserts and a kid's craft station. We will also be holding our annual artisan craft market\, as well as holding sales in our wonderful shop La Belle Boutique Blanche! Before you leave\, don't forget to get some pictures taken with Santa Claus*! \nIf you have any questions\, contact us at experiences@msbm.mb.ca \n*Subject to change
URL:https://msbm.mb.ca/event/noel-a-saint-boniface/
LOCATION:Le Musée de Saint-Boniface Museum\, 494\, ave Taché\, Winnipeg\, Manitoba\, Canada
CATEGORIES:on site
ORGANIZER;CN="Lo%C3%AFk Raymond":MAILTO:experiences@msbm.mb.ca
END:VEVENT
BEGIN:VEVENT
DTSTART;TZID=America/Winnipeg:20221119T180000
DTEND;TZID=America/Winnipeg:20221119T220000
DTSTAMP:20260423T100950
CREATED:20220922T203653Z
LAST-MODIFIED:20230116T221436Z
UID:6271-1668880800-1668895200@msbm.mb.ca
SUMMARY:Members Appreciation Evening Event
DESCRIPTION:*English Message Follows* \nUn événement pour nos membres seulement! La Soirée d'Appréciation des Membres du Musée de Saint-Boniface Museum. Veuillez nous rejoindre pour une dégustation en détente de plusieurs different vins\, bières\, fromages et chocolats! Venez aussi profitez des ventes spéciales dans La Belle Boutique Blanche\, ou vous trouverez des cadeaux uniques pour vous-mêmes\, votre familles et cos ami(e)s! \nAvec fournisseurs locaux*: Fromagerie Bothwell\, Chocolatier Constance Popp\, Kilter Brewing                                                              *sujet à des changements \nIl faut confirmer votre présence à l'avance. Si vous n'êtes pas présentement membre\, vous pouvez le devenir avant l'événement ou lors de l'événement. \nSi vous avez des questions\, n'hésitez pas à contacter Loïk Raymond au courriel experiences@msbm.mb.ca \n\nA members only event is happening! The Musée de Saint-Boniface Museum Members Appreciation Event. Please come join us for a relaxing evening of tasting wine\, beer\, cheese and chocolate pairings! You will also have exclusive sales waiting for you at La Belle Boutique Blanche where you will find unique gifts for you\, your family and friends. \nFeaturing local vendors*: Bothwell Cheese\, Chocolatier Constance Popp\, Kilter Brewing                       *subject to possible changes \nRSVP is required. If you are not currently a member\, you can become a member before the event or at the event to come in. \nIf you have any questions\, do not hesitate to contact Loïk Raymond at experiences@msbm.mb.ca
URL:https://msbm.mb.ca/event/members-appreciation-event/
LOCATION:Le Musée de Saint-Boniface Museum\, 494\, ave Taché\, Winnipeg\, Manitoba\, Canada
CATEGORIES:on site
ORGANIZER;CN="Lo%C3%AFk Raymond":MAILTO:experiences@msbm.mb.ca
END:VEVENT
BEGIN:VEVENT
DTSTART;TZID=America/Winnipeg:20220827T190000
DTEND;TZID=America/Winnipeg:20220827T200000
DTSTAMP:20260423T100950
CREATED:20220803T142316Z
LAST-MODIFIED:20220803T142413Z
UID:6145-1661626800-1661630400@msbm.mb.ca
SUMMARY:Soirée Meurtre et Mystère / Murder Mystery Night
DESCRIPTION:Théâtre immersif. 25$/par personne\, un snack gratuit inclus. Billets à vendre sur Simpletix: www.simpletix.com \n  \nImmersive threatre\, $25/per person\, free snack included.  Tickets available through Simpletix: www.simpletix.com \n \n 
URL:https://msbm.mb.ca/event/soiree-meurtre-et-mystere-murder-mystery-night/
LOCATION:Le Musée de Saint-Boniface Museum\, 494\, ave Taché\, Winnipeg\, Manitoba\, Canada
ORGANIZER;CN="Lo%C3%AFk Raymond":MAILTO:experiences@msbm.mb.ca
END:VEVENT
BEGIN:VEVENT
DTSTART;TZID=America/Winnipeg:20220817T110000
DTEND;TZID=America/Winnipeg:20220817T160000
DTSTAMP:20260423T100950
CREATED:20220726T191007Z
LAST-MODIFIED:20220726T191007Z
UID:6126-1660734000-1660752000@msbm.mb.ca
SUMMARY:Visite des aînés Métis / Métis Elders Visit
DESCRIPTION:Deux aînés métis\, Orille Haugan et Joseph Courchaine\, viendront au musée pour partager leurs connaissances. Ils parleront des charrettes de la rivière Rouge\, ils apporteront également des articles autochtones fabriqués par Joseph lui-même pour partager et en parler. \nTwo Métis Elders\, Orille Haugan and Joseph Courchaine\, will be coming to the museum to share their knowledge. They will talk about the Red River Carts\, they also will bring Indigenous items made by Joseph himself to share and talk about.
URL:https://msbm.mb.ca/event/visite-des-aines-metis-metis-elders-visit/
LOCATION:Le Musée de Saint-Boniface Museum\, 494\, ave Taché\, Winnipeg\, Manitoba\, Canada
ORGANIZER;CN="Lo%C3%AFk Raymond":MAILTO:experiences@msbm.mb.ca
END:VEVENT
BEGIN:VEVENT
DTSTART;TZID=America/Winnipeg:20220814T110000
DTEND;TZID=America/Winnipeg:20220814T150000
DTSTAMP:20260423T100950
CREATED:20220809T170358Z
LAST-MODIFIED:20220809T170358Z
UID:6157-1660474800-1660489200@msbm.mb.ca
SUMMARY:Historical Reenactment / Reconstitution historique
DESCRIPTION:Rejoignez-nous le samedi 14 août pour être transporté dans le temps ! Il y aura une exposition sur la traite des fourrures par Andrew Amy de 11 h à 15 h. ainsi que 2 autres invités spéciaux et leurs maîtrises/métiers. \n-- \nJoin us on Saturday\, August 14 to be transported back in time! There will be a fur trade display by Andrew Amy from 11 a.m. to 3 p.m. as well as 2 other special guests and their skills/trades.
URL:https://msbm.mb.ca/event/historical-reenactment-reconstitution-historique/
LOCATION:Le Musée de Saint-Boniface Museum\, 494\, ave Taché\, Winnipeg\, Manitoba\, Canada
ORGANIZER;CN="Lo%C3%AFk Raymond":MAILTO:experiences@msbm.mb.ca
END:VEVENT
BEGIN:VEVENT
DTSTART;TZID=America/Winnipeg:20220803T103000
DTEND;TZID=America/Winnipeg:20220803T163000
DTSTAMP:20260423T100950
CREATED:20220726T205207Z
LAST-MODIFIED:20220728T193750Z
UID:6129-1659522600-1659544200@msbm.mb.ca
SUMMARY:Sports historiques et Jeux des Voyageurs / Historic Sports and Voyageurs Games
DESCRIPTION:Venez être un voyageur pour la journée! Le 3 août\, diverses stations seront installées pour vivre l'expérience de la vie d'un voyageur! Il y aura également des jeux dont une course de relais\, un jeu de devinettes sur la fourrure et un jeu d'association d'empreintes d'animaux\, ainsi que du fer à cheval et du croquet pour le public. Vous pouvez signer des contrats et chanter des chansons comme les voyageurs. Amenez vos amis et venez profiter d'un bon moment historique ! \n-- \nCome be a voyageur for the day! On August 3\, various stations will be set up to help guests experience the life of a voyageur! There will also be games including a relay race\, a fur guessing game\, and a paw print matching game\, as well as horseshoe and croquet for the public. You can sign contracts and sing songs just like the voyageurs. Bring your friends and come on down to enjoy some historically good fun!
URL:https://msbm.mb.ca/event/historic-sports-and-voyageurs-games/
LOCATION:Le Musée de Saint-Boniface Museum\, 494\, ave Taché\, Winnipeg\, Manitoba\, Canada
ORGANIZER;CN="Lo%C3%AFk Raymond":MAILTO:experiences@msbm.mb.ca
END:VEVENT
BEGIN:VEVENT
DTSTART;TZID=America/Winnipeg:20220727T100000
DTEND;TZID=America/Winnipeg:20220727T170000
DTSTAMP:20260423T100950
CREATED:20220720T182534Z
LAST-MODIFIED:20220720T182534Z
UID:6110-1658916000-1658941200@msbm.mb.ca
SUMMARY:Workshop Stations Ateliers
DESCRIPTION:Des ateliers seront réparties dans le musée. Venez apprendre à faire du perlage\, du tissage\, de la broderie et/ou du crochet/tricot. Il s'agit de premier arrivé premier servi\, donc aucune réservation n'est requise. Nous aurons également une quantité définie de matériaux disponibles. \nArt workshop stations will be found throughout the museum. Come learn how to do beading\, finger weaving\, embroidery and/or crochet/knitting. It is a first come first serve basis so no reservations are required. We will have a set amount of materials available as well.
URL:https://msbm.mb.ca/event/workshop-stations-ateliers/
LOCATION:Le Musée de Saint-Boniface Museum\, 494\, ave Taché\, Winnipeg\, Manitoba\, Canada
CATEGORIES:on site,workshops
ORGANIZER;CN="Lo%C3%AFk Raymond":MAILTO:experiences@msbm.mb.ca
END:VEVENT
END:VCALENDAR